Workbook
Name \a: #REF!
Name \m: #REF!
Name \n: #REF!
Name \o: #REF!
Name _____SP1: [1]FES!#REF!
Name _____SP10: [1]FES!#REF!
Name _____SP11: [1]FES!#REF!
Name _____SP12: [1]FES!#REF!
Name _____SP13: [1]FES!#REF!
Name _____SP14: [1]FES!#REF!
Name _____SP15: [1]FES!#REF!
Name _____SP16: [1]FES!#REF!
Name _____SP17: [1]FES!#REF!
Name _____SP18: [1]FES!#REF!
Name _____SP19: [1]FES!#REF!
Name _____SP2: [1]FES!#REF!
Name _____SP20: [1]FES!#REF!
Name _____SP3: [1]FES!#REF!
Name _____SP4: [1]FES!#REF!
Name _____SP5: [1]FES!#REF!
Name _____SP7: [1]FES!#REF!
Name _____SP8: [1]FES!#REF!
Name _____SP9: [1]FES!#REF!
Name _____vp1: [2]T0!#REF!
Name _____vpp1: [2]T0!#REF!
Name _____vpp2: [2]T0!#REF!
Name _____vpp3: [2]T0!#REF!
Name _____vpp4: [2]T0!#REF!
Name _____vpp5: [2]T0!#REF!
Name _____vpp6: [2]T0!#REF!
Name _____vpp7: [2]T0!#REF!
Name ____op1: [3]T25!$I$48
Name ____opp1: [3]T31!$I$91
Name ____opp2: [3]T31!$I$92
Name ____opp3: [3]T31!$I$93
Name ____opp4: [3]T31!$I$94
Name ____opp5: [3]T31!$I$95
Name ____opp6: [3]T31!$I$96
Name ____opp7: [3]T31!$I$97
Name ___op1: [3]T25!$I$48
Name ___opp1: [3]T31!$I$91
Name ___opp2: [3]T31!$I$92
Name ___opp3: [3]T31!$I$93
Name ___opp4: [3]T31!$I$94
Name ___opp5: [3]T31!$I$95
Name ___opp6: [3]T31!$I$96
Name ___opp7: [3]T31!$I$97
Name ___SP1: [1]FES!#REF!
Name ___SP10: [1]FES!#REF!
Name ___SP11: [1]FES!#REF!
Name ___SP12: [1]FES!#REF!
Name ___SP13: [1]FES!#REF!
Name ___SP14: [1]FES!#REF!
Name ___SP15: [1]FES!#REF!
Name ___SP16: [1]FES!#REF!
Name ___SP17: [1]FES!#REF!
Name ___SP18: [1]FES!#REF!
Name ___SP19: [1]FES!#REF!
Name ___SP2: [1]FES!#REF!
Name ___SP20: [1]FES!#REF!

Sheet Мособлэнерго
BN1: Приложение 2
BN2: к приказу Федеральной службы по тарифам
BN3: от 24 октября 2014 г. № 1831-э
A5: Форма раскрытия информации о структуре и объемах затрат
A6: на оказание услуг по передаче электрической энергии сетевыми
A7: организациями, регулирование деятельности которых осуществляется
A8: методом долгосрочной индексации необходимой валовой выручки
C10: Наименование организации: | AG10: АО "Мособлэнерго"
C11: ИНН: | J11: 5032137342
C12: КПП: | J12: 500301001
C13: Долгосрочный период регулирования: | AQ13: 2025 | AY13: - | BA13: 2029 | BH13: гг.
A15: № п/п | J15: Показатель | BH15: Ед. изм. | BS15: 2024 год | BU15: Примечание ***
BS16: план * | BT16: факт **
A17: I | J17: Структура затрат | BH17: х | BS17: х | BT17: х | BU17: х
A18: 1 | J18: Необходимая валовая выручка на содержание | BH18: тыс. руб. | BS18: =BS19+BS33+BS47+BS49 -> 25858219 | BT18: =BT19+BT33+BT47+BT49 -> 27268278
A19: 1.1 | J19: Подконтрольные расходы, всего | BH19: тыс. руб. | BS19: =BS20+BS25+BS27+BS31+BS32 -> 10853187 | BT19: =BT20+BT25+BT27+BT31+BT32 -> 10170526 | CQ19: =+BS20+BS25+BS27+BS31+BS32 -> 10853187 | CR19: =+BT20+BT25+BT27+BT31+BT32 -> 10170526
A20: 1.1.1 | K20: Материальные расходы, всего | BH20: тыс. руб. | BS20: =+BS21+BS22+BS23 -> 3983524.5 | BT20: =+BT21+BT22+BT23 -> 3433358.5 | CQ20: =+CQ19-BS19 -> 0
A21: 1.1.1.1 | K21: в том числе на сырье, материалы, запасные части, инструмент, топливо | BH21: тыс. руб. | BS21: 1014420.9 | BT21: =БДР_2024!G26+БДР_2024!G43 -> 953534.45
A22: 1.1.1.2 | K22: на ремонт | BH22: тыс. руб. | BS22: 2409260.5 | BT22: 2000000
A23: 1.1.1.3 | K23: в том числе на работы и услуги производственного характера (в том числе услуги сторонних организаций по содержанию сетей и распределительных устройств) | BH23: тыс. руб. | BS23: 559843.11 | BT23: =БДР_2024!AC47 -> 479824.06
A24: 1.1.1.3.1 | K24: в том числе на ремонт | BH24: тыс. руб.
A25: 1.1.2 | K25: Фонд оплаты труда | BH25: тыс. руб. | BS25: 5504361.7 | BT25: =БДР_2024!AC23 -> 6187012.1
A26: 1.1.2.1 | K26: в том числе на ремонт | BH26: тыс. руб.
A27: 1.1.3 | K27: Прочие подконтрольные расходы | BH27: тыс. руб. | BS27: =+BS28+BS29+BS30 -> 1365300.6 | BT27: =+BT28+BT29+BT30 -> 550155.6
A28: 1.1.3.1 | K28: в том числе прибыль на социальное развитие (включая социальные выплаты) | BH28: тыс. руб. | BS28: 81874.486 | BT28: =БДР_2024!G105 -> 46104.6
A29: 1.1.3.2 | K29: в том числе транспортные услуги | BH29: тыс. руб.
A30: 1.1.3.3 | K30: в том числе прочие расходы **** | BH30: тыс. руб. | BS30: 1283426.1 | BT30: 504051
A31: 1.1.4 | K31: Расходы на обслуживание операционных заемных средств в составе подконтрольных расходов | BH31: тыс. руб.
A32: 1.1.5 | K32: Расходы из прибыли в составе подконтрольных расходов | BH32: тыс. руб.
A33: 1.2 | K33: Неподконтрольные расходы, включенные в НВВ, всего | BH33: тыс. руб. | BS33: =BS34+BS35+BS36+BS37+BS38+BS39+BS40+BS41+BS42+BS43+BS45+BS46 -> 9416403.6 | BT33: =BT34+BT35+BT36+BT37+BT38+BT39+BT40+BT41+BT42+BT43+BT45+BT46 -> 9512094.3 | CQ33: =+BS34+BS35+BS36+BS37+BS38+BS39+BS40+BS41+BS42+BS43+BS45+BS46 -> 9416403.6 | CR33: =+BT34+BT35+BT36+BT37+BT38+BT39+BT40+BT41+BT42+BT43+BT45+BT46 -> 9512094.3
A34: 1.2.1 | K34: Оплата услуг ОАО "ФСК ЕЭС" | BH34: тыс. руб. | BS34: 362627.42 | BT34: =БДР_2024!G21 -> 364976.89
A35: 1.2.2 | K35: Расходы на оплату технологического присоединения к сетям смежной сетевой организации | BH35: тыс. руб.
A36: 1.2.3 | K36: Плата за аренду имущества | BH36: тыс. руб. | BS36: 964718.18 | BT36: =БДР_2024!AC35 -> 1280466.4
A37: 1.2.4 | K37: отчисления на социальные нужды | BH37: тыс. руб. | BS37: 1462813.9 | BT37: =БДР_2024!AC24 -> 1876013.7
A38: 1.2.5 | K38: расходы на возврат и обслуживание долгосрочных заемных средств, направляемых на финансирование капитальных вложений | BH38: тыс. руб.
A39: 1.2.6 | K39: амортизация | BH39: тыс. руб. | BS39: 3283788.8 | BT39: =БДР_2024!G34 -> 4950375.1
A40: 1.2.7 | K40: прибыль на капитальные вложения | BH40: тыс. руб. | BS40: =936608.89+750000 -> 1686608.9
A41: 1.2.8 | K41: налог на прибыль | BH41: тыс. руб. | BS41: 293810 | BT41: =БДР_2024!G114 -> 873137.2
A42: 1.2.9 | K42: прочие налоги | BH42: тыс. руб. | BS42: =130692.65 -> 130692.65 | BT42: =БДР_2024!G63+БДР_2024!G109 -> 167125.08
A43: 1.2.10 | K43: Расходы сетевой организации, связанные с осуществлением технологического присоединения к электрическим сетям, не включенные в плату за технологическое присоединение | BH43: тыс. руб.
...

Sheet БДР_2024
H1: 0.95286088 | I1: 0.95286088 | K1: 0.95286088 | M1: 0.95286088 | O1: 0.95286088 | P1: 0.95286088
H2: 0.017879938 | I2: 0.017879938 | K2: 0.017879938 | M2: 0.017879938 | O2: 0.017879938 | P2: 0.017879938 | X2: Приложение № 4
H3: 0.029259178 | I3: 0.029259178 | K3: 0.029259178 | M3: 0.029259178 | O3: 0.029259178 | P3: 0.029259178
O4: Приложение № 5
A5: БЮДЖЕТ ДОХОДОВ И РАСХОДОВ АО "Мособлэнерго"
A9: № п/п | B9: Виды продукции | C9: Ед. изм. | D9: 2023 | F9: отклонение,% | G9: план 2024 | N9: Темп роста (снижения) к отчетному году, % | O9: Прогноз 2025 | P9: Прогноз 2026 | S9: факт 2023
D10: план | E10: факт | S10: Всего | T10: в разрезе периодов
D11: план | E11: факт | G11: Год | H11: 1 квартал | I11: 2 квартал | J11: 1 полугодие | K11: 3 квартал | L11: 9 месяцев | M11: 4 квартал | S11: всего | T11: 1 кв. | U11: 2 кв. | V11: 1 п/г | W11: 3 кв. | X11: 9 мес. | Y11: 4 кв. | AC11: 0.95
A12: I. | B12: Доходы (всего) | D12: =D13+D14+D15 -> 26749182 | E12: =E13+E14+E15 -> 28181095 | F12: =(E12-D12)/D12 -> 0.053531108 | G12: =G13+G14+G15 -> 28862046 | H12: =H13+H14+H15 -> 7438757.5 | I12: =I13+I14+I15 -> 6762979.8 | J12: =J13+J14+J15 -> 14201737 | K12: =K13+K14+K15 -> 6655310.9 | L12: =L13+L14+L15 -> 20857048 | M12: =M13+M14+M15 -> 8004998 | N12: =(G12-E12)/E12 -> 0.024163393 | O12: =O13+O14+O15 -> 30593769 | P12: =P13+P14+P15 -> 31817520 | S12: =S13+S14+S15 -> #REF! | T12: =T13+T14+T15 -> #REF! | U12: =U13+U14+U15 -> #REF! | V12: =V13+V14+V15 -> #REF! | W12: =W13+W14+W15 -> #REF! | X12: =X13+X14+X15 -> #REF! | Y12: =Y13+Y14+Y15 -> #REF!
A13: 1.1. | B13: Выручка от реализации сетевых услуг | C13: тыс.руб. | D13: 25297379 | E13: 25675279 | F13: =(E13-D13)/D13 -> 0.014938326 | G13: =L13+M13 -> 26157825 | H13: 6909076.4 | I13: 6340104.5 | J13: =H13+I13 -> 13249181 | K13: 6153642.5 | L13: =J13+K13 -> 19402823 | M13: 6755001.1 | N13: =(G13-E13)/E13 -> 0.018794148 | O13: =G13*1.06 -> 27727294 | P13: =O13*1.04 -> 28836386 | S13: =#REF!+#REF! -> #REF! | T13: =#REF!+#REF! -> #REF! | U13: =#REF!+#REF! -> #REF! | V13: =#REF!+#REF! -> #REF! | W13: =#REF!+#REF! -> #REF! | X13: =#REF!+#REF! -> #REF! | Y13: =#REF!+#REF! -> #REF!
A14: 1.2. | B14: Выручка от техприсоединения (в том числе орг.услуги) | C14: тыс.руб. | D14: 659281 | E14: 1525463.6 | F14: =(E14-D14)/D14 -> 1.3138291 | G14: =L14+M14 -> 1847937.3 | H14: 351117.34 | I14: 221924.54 | J14: =H14+I14 -> 573041.88 | K14: 310652.98 | L14: =J14+K14 -> 883694.87 | M14: 964242.45 | N14: =(G14-E14)/E14 -> 0.21139395 | O14: =G14*1.06 -> 1958813.6 | P14: =O14*1.04 -> 2037166.1 | S14: =X14+Y14 -> 0 | V14: =T14+U14 -> 0 | X14: =V14+W14 -> 0
A15: 1.3. | B15: Выручка по прочим видам деятельности | C15: тыс.руб. | D15: 792522.08 | E15: 980352.38 | F15: =(E15-D15)/D15 -> 0.23700324 | G15: =L15+M15 -> 856284.49 | H15: 178563.76 | I15: 200950.8 | J15: =H15+I15 -> 379514.56 | K15: 191015.41 | L15: =J15+K15 -> 570529.97 | M15: 285754.52 | N15: =(G15-E15)/E15 -> -0.12655438 | O15: =G15*1.06 -> 907661.56 | P15: =O15*1.04 -> 943968.02 | S15: =X15+Y15 -> 0 | V15: =T15+U15 -> 0 | X15: =V15+W15 -> 0
A18: II. | B18: Расходы (всего) | C18: тыс.руб. | D18: =D19+D78 -> 24092196 | E18: =E19+E78 -> 23428717 | F18: =(E18-D18)/D18 -> -0.027539159 | G18: =H18+I18+K18+M18 -> 25774768 | H18: =H19+H78 -> 7012431.7 | I18: =I19+I78 -> 5663899.7 | J18: =J19+J78 -> 12644303 | K18: =K19+K78 -> 5836835.9 | L18: =L19+L78 -> 18465350 | M18: =M19+M78 -> 7261600.9 | N18: =(G18-E18)/E18 -> 0.10013571 | O18: =O19+O78 -> 26283903 | P18: =P19+P78 -> 26891472 | S18: =S19+S78 -> 0 | T18: =T19+T78 -> 0 | U18: =U19+U78 -> 0 | V18: =V19+V78 -> 0 | W18: =W19+W78 -> 0 | X18: =X19+X78 -> 0 | Y18: =Y19+Y78 -> 0 | AC18: =AC20+AC21+AC23+AC24+AC26+AC34+AC35+AC42+AC47+AC57+AC63+AC66+AC105+AC109 -> 25268378 | AD18: =AC18-100+2000000 -> 27268278
A19: II.1. | B19: Производственные и управленческие расходы | C19: тыс.руб. | D19: =D20+D21+D22+D26+D34+D35+D42+D47+D57+D63+D66 -> 24092196 | E19: =E20+E21+E22+E26+E34+E35+E42+E47+E57+E63+E66 -> 23428717 | F19: =(E19-D19)/D19 -> -0.027539159 | G19: =H19+I19+K19+M19 -> 25774768 | H19: =H20+H21+H22+H26+H34+H35+H42+H47+H57+H63+H66 -> 7012431.7 | I19: =I20+I21+I22+I26+I34+I35+I42+I47+I57+I63+I66 -> 5663899.7 | J19: =J20+J21+J22+J26+J34+J35+J42+J47+J57+J63+J66 -> 12644303 | K19: =K20+K21+K22+K26+K34+K35+K42+K47+K57+K63+K66 -> 5836835.9 | L19: =L20+L21+L22+L26+L34+L35+L42+L47+L57+L63+L66 -> 18465350 | M19: =M20+M21+M22+M26+M34+M35+M42+M47+M57+M63+M66 -> 7261600.9 | N19: =(G19-E19)/E19 -> 0.10013571 | O19: =O20+O21+O22+O26+O34+O35+O42+O47+O57+O63+O66 -> 26283903 | P19: =P20+P21+P22+P26+P34+P35+P42+P47+P57+P63+P66 -> 26891472 | S19: =S20+S21+S22+S26+S34+S35+S42+S47+S57+S63+S66 -> 0 | T19: =T20+T21+T22+T26+T34+T35+T42+T47+T57+T63+T66 -> 0 | U19: =U20+U21+U22+U26+U34+U35+U42+U47+U57+U63+U66 -> 0 | V19: =V20+V21+V22+V26+V34+V35+V42+V47+V57+V63+V66 -> 0 | W19: =W20+W21+W22+W26+W34+W35+W42+W47+W57+W63+W66 -> 0 | X19: =X20+X21+X22+X26+X34+X35+X42+X47+X57+X63+X66 -> 0 | Y19: =Y20+Y21+Y22+Y26+Y34+Y35+Y42+Y47+Y57+Y63+Y66 -> 0
A20: 2.1. | B20: Покупная электроэнергия (потери) | C20: тыс.руб. | D20: 7500725.8 | E20: 6813590.5 | F20: =(E20-D20)/D20 -> -0.091609172 | G20: =H20+I20+K20+M20 -> 7585657 | H20: 2499723 | I20: 1115221 | J20: =H20+I20 -> 3614944 | K20: 1304555 | L20: =J20+K20 -> 4919499 | M20: 2666158 | N20: =(G20-E20)/E20 -> 0.11331272 | O20: =G20*1.03 -> 7813226.7 | P20: =O20*1.03 -> 8047623.5 | S20: =X20+Y20 -> 0 | V20: =T20+U20 -> 0 | X20: =V20+W20 -> 0 | Y20: ='[20]Расчетный файл_Балансы 12,45%'!Y65+'[20]Расчетный файл_Балансы 12,45%'!Z65+'[20]Расчетный файл_Балансы 12,45%'!AA65 -> 0 | AC20: =G20 -> 7585657
A21: 2.2. | B21: Услуги по передаче электроэнергии по ЕНЭС России | C21: тыс.руб. | D21: 282259.77 | E21: 320955.4 | F21: =(E21-D21)/D21 -> 0.13709228 | G21: =H21+I21+K21+M21 -> 364976.89 | H21: 90355.798 | I21: 85672.014 | J21: =H21+I21 -> 176027.81 | K21: 91851.816 | L21: =J21+K21 -> 267879.63 | M21: 97097.267 | N21: =(G21-E21)/E21 -> 0.13715765 | O21: =G21*1.03 -> 375926.2 | P21: =O21*1.03 -> 387203.99 | S21: =X21+Y21 -> 0 | V21: =T21+U21 -> 0 | X21: =V21+W21 -> 0 | AC21: =G21 -> 364976.89
A22: 2.3. | B22: Затраты на оплату труда (с отчислениями) | C22: тыс.руб. | D22: =D23+D24 -> 7919663.4 | E22: =E23+E24 -> 7770565.9 | F22: =(E22-D22)/D22 -> -0.018826243 | G22: =G23+G24 -> 8487395.5 | H22: =H23+H24 -> 2033322.6 | I22: =I23+I24 -> 2151278.1 | J22: =J23+J24 -> 4184600.7 | K22: =K23+K24 -> 2292591.6 | L22: =L23+L24 -> 6477192.3 | M22: =M23+M24 -> 2010203.3 | N22: =(G22-E22)/E22 -> 0.092249352 | O22: =O23+O24 -> 8635766.4 | P22: =P23+P24 -> 8808481.7 | S22: =S23+S24 -> 0 | T22: =T23+T24 -> 0 | U22: =U23+U24 -> 0 | V22: =V23+V24 -> 0 | W22: =W23+W24 -> 0 | X22: =X23+X24 -> 0 | Y22: =Y23+Y24 -> 0
A23: 2.3.1. | B23: Затраты на оплату труда | C23: тыс.руб. | D23: 6075831.6 | E23: 6001446.3 | F23: =(E23-D23)/D23 -> -0.012242815 | G23: =H23+I23+K23+M23 -> 6512644.3 | H23: 1559265.2 | I23: 1650372.2 | J23: =H23+I23 -> 3209637.3 | K23: 1759261.7 | L23: =J23+K23 -> 4968899.1 | M23: 1543745.2 | N23: =(G23-E23)/E23 -> 0.085179132 | O23: =G23*1.02 -> 6642897.2 | P23: =O23*1.02 -> 6775755.1 | S23: =X23+Y23 -> 0 | V23: =T23+U23 -> 0 | X23: =V23+W23 -> 0 | Z23: =G24/G23 -> 0.30321804 | AC23: =G23*AC11 -> 6187012.1
A24: 2.3.2. | B24: Внебюджетные фонды | C24: тыс.руб. | D24: 1843831.8 | E24: 1769119.5 | F24: =(E24-D24)/D24 -> -0.040520085 | G24: =H24+I24+K24+M24 -> 1974751.2 | H24: 474057.39 | I24: 500905.92 | J24: =H24+I24 -> 974963.32 | K24: 533329.88 | L24: =J24+K24 -> 1508293.2 | M24: 466458.02 | N24: =(G24-E24)/E24 -> 0.11623391 | O24: =O23*0.3 -> 1992869.2 | P24: =P23*0.3 -> 2032726.5 | S24: =X24+Y24 -> 0 | V24: =T24+U24 -> 0 | X24: =V24+W24 -> 0 | AC24: =G24*AC11 -> 1876013.7
A26: 2.4. | B26: Материалы | C26: тыс.руб. | D26: =SUM(D27:D33) -> 653994.73 | E26: =SUM(E27:E33) -> 767976.89 | F26: =(E26-D26)/D26 -> 0.17428606 | G26: =SUM(G27:G33) -> 727756.69 | H26: =SUM(H27:H33) -> 187324.5 | I26: =SUM(I27:I33) -> 191029.23 | J26: =SUM(J27:J33) -> 346325.73 | K26: =SUM(K27:K33) -> 199923.38 | L26: =SUM(L27:L33) -> 530460.12 | M26: =SUM(M27:M33) -> 212705.17 | N26: =(G26-E26)/E26 -> -0.052371633 | O26: =SUM(O27:O33) -> 742311.82 | P26: =SUM(P27:P33) -> 757158.06 | S26: =SUM(S27:S33) -> 0 | T26: =SUM(T27:T33) -> 0 | U26: =SUM(U27:U33) -> 0 | V26: =SUM(V27:V33) -> 0 | W26: =SUM(W27:W33) -> 0 | X26: =SUM(X27:X33) -> 0 | Y26: =SUM(Y27:Y33) -> 0 | AC26: =G26*AC11 -> 691368.85
A27: 2.4.1. | B27: Канцелярские, почтово-телеграфные расходы, бумага, бланки | C27: тыс.руб. | D27: 19970.328 | E27: 23896.457 | F27: =(E27-D27)/D27 -> 0.1965981 | G27: =H27+I27+K27+M27 -> 24793.4 | H27: 6806.9 | I27: 5759.5 | J27: =H27+I27 -> 12566.4 | K27: 5723.5 | L27: =J27+K27 -> 18289.9 | M27: 6503.5 | N27: =(G27-E27)/E27 -> 0.037534565 | O27: =G27*1.02 -> 25289.268 | P27: =O27*1.02 -> 25795.053 | S27: =X27+Y27 -> 0 | V27: =T27+U27 -> 0 | X27: =V27+W27 -> 0
A28: 2.4.2. | B28: Инвентарь и инструменты производственного назначения | C28: тыс.руб. | D28: 26013.723 | E28: 32357.877 | F28: =(E28-D28)/D28 -> 0.24387716 | G28: =H28+I28+K28+M28 -> 34313.22 | H28: 8553.99 | I28: 8875.99 | J28: =H28+I28 -> 17429.98 | K28: 8361.99 | L28: =J28+K28 -> 25791.97 | M28: 8521.25 | N28: =(G28-E28)/E28 -> 0.06042867 | O28: =G28*1.02 -> 34999.484 | P28: =O28*1.02 -> 35699.474 | S28: =X28+Y28 -> 0 | V28: =T28+U28 -> 0 | X28: =V28+W28 -> 0
A29: 2.4.3. | B29: Материалы непроизводственного назначения | E29: 349622.64 | H29: 15812 | I29: 16216 | K29: 15789 | M29: 15408.6 | O29: =G29*1.02 -> 0 | P29: =O29*1.02 -> 0
A30: 2.4.4. | B30: Материалы на эксплуатацию и ремонт АИИСКУЭ | C30: тыс.руб. | D30: 331364.56 | E30: 245586.91 | F30: =(E30-D30)/D30 -> -0.25886187 | G30: =H30+I30+K30+M30 -> 356408.36 | H30: 79890.96 | I30: 90635 | J30: =H30+I30 -> 170525.96 | K30: 90382.5 | L30: =J30+K30 -> 260908.46 | M30: 95499.9 | N30: =(G30-E30)/E30 -> 0.45125146 | O30: =G30*1.02 -> 363536.53 | P30: =O30*1.02 -> 370807.26 | S30: =X30+Y30 -> 0 | V30: =T30+U30 -> 0 | X30: =V30+W30 -> 0
A31: 2.4.5. | B31: Спецодежда, спецобувь, СИЗ | C31: тыс.руб. | D31: 232017.29 | E31: 63608.697 | F31: =(E31-D31)/D31 -> -0.72584501 | G31: =H31+I31+K31+M31 -> 259341.35 | H31: 63351.165 | I31: 56125.749 | J31: =H31+I31 -> 119476.91 | K31: 66431.903 | L31: =J31+K31 -> 185908.82 | M31: 73432.531 | N31: =(G31-E31)/E31 -> 3.0771366 | O31: =G31*1.02 -> 264528.17 | P31: =O31*1.02 -> 269818.74 | S31: =X31+Y31 -> 0 | V31: =T31+U31 -> 0 | X31: =V31+W31 -> 0
A32: 2.4.6. | B32: Резерв под снижение стоимости запасов | C32: тыс.руб. | D32: 0 | G32: =H32+I32+K32+M32 -> 0 | J32: =H32+I32 -> 0 | L32: =J32+K32 -> 0 | O32: =G32*1.02 -> 0 | P32: =O32*1.02 -> 0 | S32: =X32+Y32 -> 0 | V32: =T32+U32 -> 0 | X32: =V32+W32 -> 0
A33: 2.4.6. | B33: Прочие вспомогательные материалы | C33: тыс.руб. | D33: 44628.83 | E33: 52904.307 | F33: =(E33-D33)/D33 -> 0.18542895 | G33: =H33+I33+K33+M33 -> 52900.36 | H33: 12909.49 | I33: 13416.99 | J33: =H33+I33 -> 26326.48 | K33: 13234.49 | L33: =J33+K33 -> 39560.97 | M33: 13339.39 | N33: =(G33-E33)/E33 -> -7.4608806e-05 | O33: =G33*1.02 -> 53958.367 | P33: =O33*1.02 -> 55037.535 | S33: =X33+Y33 -> 0 | V33: =T33+U33 -> 0 | X33: =V33+W33 -> 0
A34: 2.5. | B34: Амортизация | C34: тыс.руб. | D34: 4421209 | E34: 4227639.5 | F34: =(E34-D34)/D34 -> -0.043782028 | G34: =H34+I34+K34+M34 -> 4950375.1 | H34: 1193313 | I34: 1219703.4 | J34: =H34+I34 -> 2413016.4 | K34: 1252490.5 | L34: =J34+K34 -> 3665506.9 | M34: 1284868.2 | N34: =(G34-E34)/E34 -> 0.17095487 | O34: =G34*1.02 -> 5049382.6 | P34: =O34*1.02 -> 5150370.2 | S34: =X34+Y34 -> 0 | V34: =T34+U34 -> 0 | X34: =V34+W34 -> 0 | AC34: =G34 -> 4950375.1
A35: 2.6. | B35: Аренда | C35: тыс.руб. | D35: =SUM(D36:D39)+D41 -> 1314232.4 | E35: =SUM(E36:E39)+E41 -> 1357596.9 | F35: =(E35-D35)/D35 -> 0.032996031 | G35: =SUM(G36:G39)+G41 -> 1347859.4 | H35: =SUM(H36:H39)+H41 -> 336434.3 | I35: =SUM(I36:I39)+I41 -> 337145.29 | J35: =SUM(J36:J39)+J41 -> 673579.58 | K35: =SUM(K36:K39)+K41 -> 337085.09 | L35: =SUM(L36:L39)+L41 -> 1010664.7 | M35: =SUM(M36:M39)+M41 -> 337194.72 | N35: =(G35-E35)/E35 -> -0.007172607 | O35: =SUM(O36:O39)+O41 -> 1374816.6 | P35: =SUM(P36:P39)+P41 -> 1402312.9 | S35: =SUM(S36:S39)+S41 -> 0 | T35: =SUM(T36:T39)+T41 -> 0 | U35: =SUM(U36:U39)+U41 -> 0 | V35: =SUM(V36:V39)+V41 -> 0 | W35: =SUM(W36:W39)+W41 -> 0 | X35: =SUM(X36:X39)+X41 -> 0 | Y35: =SUM(Y36:Y39)+Y41 -> 0 | AC35: =G35*AC11 -> 1280466.4
A36: 2.6.1. | B36: Аренда электрических сетей | C36: тыс.руб. | D36: 765295 | E36: 950178.84 | F36: =(E36-D36)/D36 -> 0.24158506 | G36: =H36+I36+K36+M36 -> 840350.25 | H36: 210085.79 | I36: 210087.79 | J36: =H36+I36 -> 420173.58 | K36: 210088.79 | L36: =J36+K36 -> 630262.36 | M36: 210087.89 | N36: =(G36-E36)/E36 -> -0.11558728 | O36: =G36*1.02 -> 857157.26 | P36: =O36*1.02 -> 874300.4 | S36: =X36+Y36 -> 0 | V36: =T36+U36 -> 0 | X36: =V36+W36 -> 0
A37: 2.6.2. | B37: Офисные здания, производственные помещения | C37: тыс.руб. | D37: 235342.05 | E37: 244341.06 | F37: =(E37-D37)/D37 -> 0.038237997 | G37: =H37+I37+K37+M37 -> 285221.11 | H37: 70734.46 | I37: 71484.45 | J37: =H37+I37 -> 142218.91 | K37: 71415.45 | L37: =J37+K37 -> 213634.36 | M37: 71586.75 | N37: =(G37-E37)/E37 -> 0.16730733 | O37: =G37*1.02 -> 290925.53 | P37: =O37*1.02 -> 296744.04 | S37: =X37+Y37 -> 0 | V37: =T37+U37 -> 0 | X37: =V37+W37 -> 0
A38: 2.6.3. | B38: Оборудование | C38: тыс.руб. | D38: 344.9702 | E38: 691.65708 | F38: =(E38-D38)/D38 -> 1.0049763 | G38: =H38+I38+K38+M38 -> 1287.184 | H38: 322.296 | I38: 321.296 | J38: =H38+I38 -> 643.592 | K38: 321.296 | L38: =J38+K38 -> 964.888 | M38: 322.29604 | N38: =(G38-E38)/E38 -> 0.86101477 | O38: =G38*1.02 -> 1312.9277 | P38: =O38*1.02 -> 1339.1863 | S38: =X38+Y38 -> 0 | V38: =T38+U38 -> 0 | X38: =V38+W38 -> 0
A39: 2.6.4. | B39: Транспорт | C39: тыс.руб. | D39: 290217.4 | E39: 140360.02 | F39: =(E39-D39)/D39 -> -0.51636249 | G39: =H39+I39+K39+M39 -> 195127 | H39: 48778.399 | I39: 48778.399 | J39: =H39+I39 -> 97556.797 | K39: 48795.399 | L39: =J39+K39 -> 146352.2 | M39: 48774.804 | N39: =(G39-E39)/E39 -> 0.39018932 | O39: =G39*1.02 -> 199029.54 | P39: =O39*1.02 -> 203010.13 | S39: =X39+Y39 -> 0 | V39: =T39+U39 -> 0 | X39: =V39+W39 -> 0
B40: в т.ч. лизинг | C40: тыс.руб. | D40: 256273.06 | E40: 116611.09 | F40: =(E40-D40)/D40 -> -0.54497326 | G40: =H40+I40+K40+M40 -> 180750 | H40: 45187.5 | I40: 45187.5 | J40: =H40+I40 -> 90375 | K40: 45187.5 | L40: =J40+K40 -> 135562.5 | M40: 45187.5 | N40: =(G40-E40)/E40 -> 0.55002405 | O40: =G40*1.02 -> 184365 | P40: =O40*1.02 -> 188052.3 | S40: =X40+Y40 -> 0 | V40: =T40+U40 -> 0 | X40: =V40+W40 -> 0
A41: 2.6.6. | B41: Прочая | C41: тыс.руб. | D41: 23033.033 | E41: 22025.326 | F41: =(E41-D41)/D41 -> -0.043750485 | G41: =H41+I41+K41+M41 -> 25873.845 | H41: 6513.3538 | I41: 6473.3538 | J41: =H41+I41 -> 12986.708 | K41: 6464.1538 | L41: =J41+K41 -> 19450.862 | M41: 6422.9838 | N41: =(G41-E41)/E41 -> 0.17473153 | O41: =G41*1.02 -> 26391.322 | P41: =O41*1.02 -> 26919.149 | S41: =X41+Y41 -> 0 | V41: =T41+U41 -> 0 | X41: =V41+W41 -> 0
A42: 2.7. | B42: Расходы на содержание автотранспорта | C42: тыс.руб. | D42: =SUM(D43:D46) -> 392457.36 | E42: =SUM(E43:E46) -> 416530.5 | F42: =(E42-D42)/D42 -> 0.061339523 | G42: =SUM(G43:G46) -> 432156.68 | H42: =SUM(H43:H46) -> 114833.59 | I42: =SUM(I43:I46) -> 104450.42 | J42: =SUM(J43:J46) -> 219284.01 | K42: =SUM(K43:K46) -> 102968.88 | L42: =SUM(L43:L46) -> 322252.89 | M42: =SUM(M43:M46) -> 109903.79 | N42: =(G42-E42)/E42 -> 0.037515084 | O42: =SUM(O43:O46) -> 440799.81 | P42: =SUM(P43:P46) -> 449615.81 | S42: =SUM(S43:S46) -> 0 | T42: =SUM(T43:T46) -> 0 | U42: =SUM(U43:U46) -> 0 | V42: =SUM(V43:V46) -> 0 | W42: =SUM(W43:W46) -> 0 | X42: =SUM(X43:X46) -> 0 | Y42: =SUM(Y43:Y46) -> 0 | AC42: =G42*AC11 -> 410548.85
A43: 2.7.1. | B43: Бензин, ГСМ | C43: тыс.руб. | D43: 195126.89 | E43: 216842.33 | F43: =(E43-D43)/D43 -> 0.11128886 | G43: =H43+I43+K43+M43 -> 225777.76 | H43: 65386.582 | I43: 51657.837 | J43: =H43+I43 -> 117044.42 | K43: 52362.468 | L43: =J43+K43 -> 169406.89 | M43: 56370.873 | N43: =(G43-E43)/E43 -> 0.041207015 | O43: =G43*1.02 -> 230293.32 | P43: =O43*1.02 -> 234899.18 | S43: =X43+Y43 -> 0 | V43: =T43+U43 -> 0 | X43: =V43+W43 -> 0 | AC43: =G43*AC11 -> 214488.87
A44: 2.7.2. | B44: Материалы, запчасти на ремонт автотранспорта | C44: тыс.руб. | D44: 50878.98 | E44: 49528.382 | F44: =(E44-D44)/D44 -> -0.026545295 | G44: =H44+I44+K44+M44 -> 50665.54 | H44: 12488.51 | I44: 12771.656 | J44: =H44+I44 -> 25260.166 | K44: 11648.9 | L44: =J44+K44 -> 36909.066 | M44: 13756.474 | N44: =(G44-E44)/E44 -> 0.022959714 | O44: =G44*1.02 -> 51678.851 | P44: =O44*1.02 -> 52712.428 | S44: =X44+Y44 -> 0 | V44: =T44+U44 -> 0 | X44: =V44+W44 -> 0
A45: 2.7.3. | B45: Услуги по ремонту,ТО и техосмотру автотранспорта | C45: тыс.руб. | D45: 102948.38 | E45: 124089.12 | F45: =(E45-D45)/D45 -> 0.20535283 | G45: =H45+I45+K45+M45 -> 140398.5 | H45: 33621.876 | I45: 35643.305 | J45: =H45+I45 -> 69265.181 | K45: 35312.891 | L45: =J45+K45 -> 104578.07 | M45: 35820.428 | N45: =(G45-E45)/E45 -> 0.1314328 | O45: =G45*1.02 -> 143206.47 | P45: =O45*1.02 -> 146070.6 | S45: =X45+Y45 -> 0 | V45: =T45+U45 -> 0 | X45: =V45+W45 -> 0
A46: 2.7.4. | B46: Прочие расходы | C46: тыс.руб. | D46: 43503.111 | E46: 26070.666 | F46: =(E46-D46)/D46 -> -0.4007172 | G46: =H46+I46+K46+M46 -> 15314.88 | H46: 3336.62 | I46: 4377.62 | J46: =H46+I46 -> 7714.24 | K46: 3644.62 | L46: =J46+K46 -> 11358.86 | M46: 3956.02 | N46: =(G46-E46)/E46 -> -0.41256276 | O46: =G46*1.02 -> 15621.178 | P46: =O46*1.02 -> 15933.601 | S46: =X46+Y46 -> 0 | V46: =T46+U46 -> 0 | X46: =V46+W46 -> 0
...

Sheet БДР
H1: 0.95660815 | I1: 0.95660815 | K1: 0.95660815 | M1: 0.95660815 | O1: 0.95660815 | P1: 0.95660815
H2: 0.019018191 | I2: 0.019018191 | K2: 0.019018191 | M2: 0.019018191 | O2: 0.019018191 | P2: 0.019018191 | X2: Приложение № 4
H3: 0.024373662 | I3: 0.024373662 | K3: 0.024373662 | M3: 0.024373662 | O3: 0.024373662 | P3: 0.024373662
O4: Приложение № 5
A5: БЮДЖЕТ ДОХОДОВ И РАСХОДОВ АО "Мособлэнерго"
G6: =G89-G99 -> 403381.14 | O6: =O89-O99 -> -162103.56 | P6: =P89-P99 -> -36228.462
A7: № п/п | B7: Виды продукции | C7: Ед. изм. | D7: 2022 | F7: отклонение,% | G7: план 2023 | N7: Темп роста (снижения) к отчетному году, % | O7: Прогноз 2024 | P7: Прогноз 2025 | S7: факт 2023
D8: план | E8: факт | S8: Всего | T8: в разрезе периодов
D9: план | E9: факт | S9: всего | T9: 1 кв. | U9: 2 кв. | V9: 1 п/г | W9: 3 кв. | X9: 9 мес. | Y9: 4 кв. | AC9: Передача | AD9: 0.92
A10: I. | B10: Доходы (всего) | D10: =D11+D14+D15 -> 23815694 | E10: =E11+E14+E15 -> 0 | F10: =(E10-D10)/D10 -> -1 | G10: =G11+G14+G15 -> 26749182 | H10: =H11+H14+H15 -> 7378410.3 | I10: =I11+I14+I15 -> 6201118.7 | J10: =J11+J14+J15 -> 13579529 | K10: =K11+K14+K15 -> 5947737.8 | L10: =L11+L14+L15 -> 19527267 | M10: =M11+M14+M15 -> 7221915.2 | N10: =(G10-E10)/E10 -> #DIV/0! | O10: =O11+O14+O15 -> 27577337 | P10: =P11+P14+P15 -> 28725642 | S10: =S11+S14+S15 -> 0 | T10: =T11+T14+T15 -> 0 | U10: =U11+U14+U15 -> 0 | V10: =V11+V14+V15 -> 0 | W10: =W11+W14+W15 -> 0 | X10: =X11+X14+X15 -> 0 | Y10: =Y11+Y14+Y15 -> 0
A11: 1.1. | B11: Выручка от реализации сетевых услуг | C11: тыс.руб. | D11: =D12+D13 -> 22475415 | E11: =E12+E13 -> 0 | F11: =(E11-D11)/D11 -> -1 | G11: =G12+G13 -> 25297379 | H11: =H12+H13 -> 7047948.8 | I11: =I12+I13 -> 5933234.9 | J11: =J12+J13 -> 12981184 | K11: =K12+K13 -> 5627584.8 | L11: =L12+L13 -> 18608769 | M11: =M12+M13 -> 6688610.3 | N11: =(G11-E11)/E11 -> #DIV/0! | O11: =O12+O13 -> 26057897 | P11: =P12+P13 -> 27110258 | S11: =S12+S13 -> 0 | T11: =T12+T13 -> 0 | U11: =U12+U13 -> 0 | V11: =V12+V13 -> 0 | W11: =W12+W13 -> 0 | X11: =X12+X13 -> 0 | Y11: =Y12+Y13 -> 0
A12: 1.1.1. | B12: по одноставочному тарифу | C12: тыс.руб. | D12: 22444581 | F12: =(E12-D12)/D12 -> -1 | G12: =L12+M12 -> 25264130 | H12: 7039636.6 | I12: 5924922.7 | J12: =H12+I12 -> 12964559 | K12: 5619272.6 | L12: =J12+K12 -> 18583832 | M12: 6680298.1 | N12: =(G12-E12)/E12 -> #DIV/0! | O12: 26020587 | P12: 27069217 | S12: =X12+Y12 -> 0 | V12: =T12+U12 -> 0 | X12: =V12+W12 -> 0
A13: 1.1.3. | B13: выручка по бездоговорному/безучетному потреблению | C13: тыс.руб. | D13: 30834.75 | F13: =(E13-D13)/D13 -> -1 | G13: =L13+M13 -> 33248.992 | H13: 8312.2481 | I13: 8312.2481 | J13: =H13+I13 -> 16624.496 | K13: 8312.2481 | L13: =J13+K13 -> 24936.744 | M13: 8312.2481 | N13: =(G13-E13)/E13 -> #DIV/0! | O13: 37310.048 | P13: 41041.052 | S13: =X13+Y13 -> 0 | V13: =T13+U13 -> 0 | X13: =V13+W13 -> 0
A14: 1.2. | B14: Выручка от техприсоединения (в том числе орг.услуги) | C14: тыс.руб. | D14: 629997.54 | F14: =(E14-D14)/D14 -> -1 | G14: =L14+M14 -> 659281 | H14: 145173.15 | I14: 100068.48 | J14: =H14+I14 -> 245241.63 | K14: 136806.9 | L14: =J14+K14 -> 382048.53 | M14: 277232.46 | N14: =(G14-E14)/E14 -> #DIV/0! | O14: 660000 | P14: 670000 | S14: =X14+Y14 -> 0 | V14: =T14+U14 -> 0 | X14: =V14+W14 -> 0
A15: 1.3. | B15: Выручка по прочим видам деятельности | C15: тыс.руб. | D15: 710280.89 | F15: =(E15-D15)/D15 -> -1 | G15: =L15+M15 -> 792522.08 | H15: 185288.31 | I15: 167815.24 | J15: =H15+I15 -> 353103.56 | K15: 183346.09 | L15: =J15+K15 -> 536449.65 | M15: =246072.4345+10000 -> 256072.43 | N15: =(G15-E15)/E15 -> #DIV/0! | O15: 859439.87 | P15: 945383.86 | S15: =X15+Y15 -> 0 | V15: =T15+U15 -> 0 | X15: =V15+W15 -> 0
A18: II. | B18: Расходы (всего) | C18: тыс.руб. | D18: =D19+D78 -> 21021097 | E18: =E19+E78 -> 0 | F18: =(E18-D18)/D18 -> -1 | G18: =G19+G78 -> 24151385 | H18: =H19+H78 -> 6289221.1 | I18: =I19+I78 -> 5520757.7 | J18: =J19+J78 -> 11809979 | K18: =K19+K78 -> 5408146.4 | L18: =L19+L78 -> 17218125 | M18: =M19+M78 -> 6933260.2 | N18: =(G18-E18)/E18 -> #DIV/0! | O18: =O19+O78 -> 24010870 | P18: =P19+P78 -> 25107408 | S18: =S19+S78 -> 0 | T18: =T19+T78 -> 0 | U18: =U19+U78 -> 0 | V18: =V19+V78 -> 0 | W18: =W19+W78 -> 0 | X18: =X19+X78 -> 0 | Y18: =Y19+Y78 -> 0
A19: II.1. | B19: Производственные и управленческие расходы | C19: тыс.руб. | D19: =D20+D21+D22+D26+D34+D35+D42+D47+D57+D63+D66 -> 21021097 | E19: =E20+E21+E22+E26+E34+E35+E42+E47+E57+E63+E66 -> 0 | F19: =(E19-D19)/D19 -> -1 | G19: =G20+G21+G22+G26+G34+G35+G42+G47+G57+G63+G66 -> 24151385 | H19: =H20+H21+H22+H26+H34+H35+H42+H47+H57+H63+H66 -> 6289221.1 | I19: =I20+I21+I22+I26+I34+I35+I42+I47+I57+I63+I66 -> 5520757.7 | J19: =J20+J21+J22+J26+J34+J35+J42+J47+J57+J63+J66 -> 11809979 | K19: =K20+K21+K22+K26+K34+K35+K42+K47+K57+K63+K66 -> 5408146.4 | L19: =L20+L21+L22+L26+L34+L35+L42+L47+L57+L63+L66 -> 17218125 | M19: =M20+M21+M22+M26+M34+M35+M42+M47+M57+M63+M66 -> 6933260.2 | N19: =(G19-E19)/E19 -> #DIV/0! | O19: =O20+O21+O22+O26+O34+O35+O42+O47+O57+O63+O66 -> 24010870 | P19: =P20+P21+P22+P26+P34+P35+P42+P47+P57+P63+P66 -> 25107408 | S19: =S20+S21+S22+S26+S34+S35+S42+S47+S57+S63+S66 -> 0 | T19: =T20+T21+T22+T26+T34+T35+T42+T47+T57+T63+T66 -> 0 | U19: =U20+U21+U22+U26+U34+U35+U42+U47+U57+U63+U66 -> 0 | V19: =V20+V21+V22+V26+V34+V35+V42+V47+V57+V63+V66 -> 0 | W19: =W20+W21+W22+W26+W34+W35+W42+W47+W57+W63+W66 -> 0 | X19: =X20+X21+X22+X26+X34+X35+X42+X47+X57+X63+X66 -> 0 | Y19: =Y20+Y21+Y22+Y26+Y34+Y35+Y42+Y47+Y57+Y63+Y66 -> 0
A20: 2.1. | B20: Покупная электроэнергия (потери) | C20: тыс.руб. | D20: 6650033.4 | F20: =(E20-D20)/D20 -> -1 | G20: =L20+M20 -> 7500725.8 | H20: 2225749.4 | I20: 1264699.9 | J20: =H20+I20 -> 3490449.4 | K20: 1272518.3 | L20: =J20+K20 -> 4762967.7 | M20: 2737758.1 | N20: =(G20-E20)/E20 -> #DIV/0! | O20: 7412729.7 | P20: 7861199.9 | S20: =X20+Y20 -> 0 | V20: =T20+U20 -> 0 | X20: =V20+W20 -> 0 | Y20: ='[22]Расчетный файл_Балансы 12,45%'!Y65+'[22]Расчетный файл_Балансы 12,45%'!Z65+'[22]Расчетный файл_Балансы 12,45%'!AA65 -> 0 | AC20: =G20 -> 7500725.8
A21: 2.2. | B21: Услуги по передаче электроэнергии по ЕНЭС России | C21: тыс.руб. | D21: 302082.57 | F21: =(E21-D21)/D21 -> -1 | G21: =L21+M21 -> 282259.77 | H21: 71042.841 | I21: 67607.034 | J21: =H21+I21 -> 138649.88 | K21: 69881.471 | L21: =J21+K21 -> 208531.35 | M21: 73728.421 | N21: =(G21-E21)/E21 -> #DIV/0! | O21: 328087.14 | P21: 342851.06 | S21: =X21+Y21 -> 0 | V21: =T21+U21 -> 0 | X21: =V21+W21 -> 0 | AC21: =G21 -> 282259.77
A22: 2.3. | B22: Затраты на оплату труда (с отчислениями) | C22: тыс.руб. | D22: =D23+D24 -> 6799045.7 | E22: =E23+E24 -> 0 | F22: =(E22-D22)/D22 -> -1 | G22: =G23+G24 -> 7919663.7 | H22: =H23+H24 -> 1832689.9 | I22: =I23+I24 -> 2050520.6 | J22: =J23+J24 -> 3883210.6 | K22: =K23+K24 -> 2100223.1 | L22: =L23+L24 -> 5983433.7 | M22: =M23+M24 -> 1936230 | N22: =(G22-E22)/E22 -> #DIV/0! | O22: =O23+O24 -> 8002113.7 | P22: =P23+P24 -> 8082134.8 | S22: =S23+S24 -> 0 | T22: =T23+T24 -> 0 | U22: =U23+U24 -> 0 | V22: =V23+V24 -> 0 | W22: =W23+W24 -> 0 | X22: =X23+X24 -> 0 | Y22: =Y23+Y24 -> 0
A23: 2.3.1. | B23: Затраты на оплату труда | C23: тыс.руб. | D23: 5224613.3 | F23: =(E23-D23)/D23 -> -1 | G23: =L23+M23 -> 6075831.9 | H23: 1406042.2 | I23: 1576108.5 | J23: =H23+I23 -> 2982150.8 | K23: 1608317.2 | L23: =J23+K23 -> 4590468 | M23: 1485363.9 | N23: =(G23-E23)/E23 -> #DIV/0! | O23: =G23*1.01 -> 6136590.2 | P23: =O23*1.01 -> 6197956.1 | S23: =X23+Y23 -> 0 | V23: =T23+U23 -> 0 | X23: =V23+W23 -> 0 | Z23: =G24/G23 -> 0.30346984 | AC23: =G23*$AD$9 -> 5589765.4
A24: 2.3.2. | B24: Внебюджетные фонды | C24: тыс.руб. | D24: 1574432.4 | F24: =(E24-D24)/D24 -> -1 | G24: =L24+M24 -> 1843831.8 | H24: 426647.7 | I24: 474412.1 | J24: =H24+I24 -> 901059.8 | K24: 491905.86 | L24: =J24+K24 -> 1392965.7 | M24: 450866.11 | N24: =(G24-E24)/E24 -> #DIV/0! | O24: =O23*0.304 -> 1865523.4 | P24: =P23*0.304 -> 1884178.7 | S24: =X24+Y24 -> 0 | V24: =T24+U24 -> 0 | X24: =V24+W24 -> 0 | AC24: =G24*$AD$9 -> 1696325.2
A26: 2.4. | B26: Материалы | C26: тыс.руб. | D26: =SUM(D27:D33) -> 628700.14 | E26: =SUM(E27:E33) -> 0 | F26: =(E26-D26)/D26 -> -1 | G26: =SUM(G27:G33) -> 713184.56 | H26: =SUM(H27:H33) -> 151967.01 | I26: =SUM(I27:I33) -> 177254.84 | J26: =SUM(J27:J33) -> 329221.84 | K26: =SUM(K27:K33) -> 185719.29 | L26: =SUM(L27:L33) -> 514941.13 | M26: =SUM(M27:M33) -> 198243.42 | N26: =(G26-E26)/E26 -> #DIV/0! | O26: =SUM(O27:O33) -> 760727.16 | P26: =SUM(P27:P33) -> 836799.88 | S26: =SUM(S27:S33) -> 0 | T26: =SUM(T27:T33) -> 0 | U26: =SUM(U27:U33) -> 0 | V26: =SUM(V27:V33) -> 0 | W26: =SUM(W27:W33) -> 0 | X26: =SUM(X27:X33) -> 0 | Y26: =SUM(Y27:Y33) -> 0 | AC26: =G26*$AD$9 -> 656129.79
A27: 2.4.4. | B27: Канцелярские, почтово-телеграфные расходы, бумага, бланки | C27: тыс.руб. | D27: 25042.347 | F27: =(E27-D27)/D27 -> -1 | G27: =L27+M27 -> 19970.328 | H27: 4875.9296 | I27: 4853.9196 | J27: =H27+I27 -> 9729.8491 | K27: 5029.6086 | L27: =J27+K27 -> 14759.458 | M27: 5210.8705 | N27: =(G27-E27)/E27 -> #DIV/0! | O27: 20761.332 | P27: 22837.465 | S27: =X27+Y27 -> 0 | V27: =T27+U27 -> 0 | X27: =V27+W27 -> 0
B28: Инвентарь и инструменты производственного назначения | C28: тыс.руб. | D28: 14634.196 | F28: =(E28-D28)/D28 -> -1 | G28: =L28+M28 -> 26013.723 | H28: 5450.24 | I28: 6985.24 | J28: =H28+I28 -> 12435.48 | K28: 7433.045 | L28: =J28+K28 -> 19868.525 | M28: 6145.1985 | N28: =(G28-E28)/E28 -> #DIV/0! | O28: 27734.596 | P28: 30508.056 | S28: =X28+Y28 -> 0 | V28: =T28+U28 -> 0 | X28: =V28+W28 -> 0
A29: 2.4.1. | B29: Материалы на эксплуатацию и ремонт АИИСКУЭ | C29: тыс.руб. | D29: 253668.9 | F29: =(E29-D29)/D29 -> -1 | G29: =L29+M29 -> 331364.56 | H29: 67641 | I29: 86986.5 | J29: =H29+I29 -> 154627.5 | K29: 86998.5 | L29: =J29+K29 -> 241626 | M29: 89738.559 | N29: =(G29-E29)/E29 -> #DIV/0! | O29: 354295.33 | P29: 389724.86 | S29: =X29+Y29 -> 0 | V29: =T29+U29 -> 0 | X29: =V29+W29 -> 0
A30: 2.4.5. | B30: Спецодежда, спецобувь, СИЗ | C30: тыс.руб. | D30: 220647.6 | F30: =(E30-D30)/D30 -> -1 | G30: =L30+M30 -> 232017.29 | H30: 50040.5 | I30: 50355.838 | J30: =H30+I30 -> 100396.34 | K30: 60301.8 | L30: =J30+K30 -> 160698.14 | M30: 71319.15 | N30: =(G30-E30)/E30 -> #DIV/0! | O30: 247484.37 | P30: 272232.81 | S30: =X30+Y30 -> 0 | V30: =T30+U30 -> 0 | X30: =V30+W30 -> 0
B31: Материалы непроизводственного назначения | C31: тыс.руб. | D31: 79372.187 | F31: =(E31-D31)/D31 -> -1 | G31: =L31+M31 -> 59189.828 | H31: 14709.338 | I31: 15133.338 | J31: =H31+I31 -> 29842.675 | K31: 14592.338 | L31: =J31+K31 -> 44435.013 | M31: 14754.815 | N31: =(G31-E31)/E31 -> #DIV/0! | O31: 62847.317 | P31: 69132.049 | S31: =X31+Y31 -> 0 | V31: =T31+U31 -> 0 | X31: =V31+W31 -> 0
B32: Резерв под снижение стоимости запасов | C32: тыс.руб. | D32: 0 | G32: =L32+M32 -> 0 | J32: =H32+I32 -> 0 | L32: =J32+K32 -> 0 | S32: =X32+Y32 -> 0 | V32: =T32+U32 -> 0 | X32: =V32+W32 -> 0
B33: Прочие вспомогательные материалы | C33: тыс.руб. | D33: 35334.911 | F33: =(E33-D33)/D33 -> -1 | G33: =L33+M33 -> 44628.83 | H33: 9250 | I33: 12940 | J33: =H33+I33 -> 22190 | K33: 11364 | L33: =J33+K33 -> 33554 | M33: 11074.83 | N33: =(G33-E33)/E33 -> #DIV/0! | O33: 47604.216 | P33: 52364.638 | S33: =X33+Y33 -> 0 | V33: =T33+U33 -> 0 | X33: =V33+W33 -> 0
A34: 2.5. | B34: Амортизация | C34: тыс.руб. | D34: 3664420.3 | F34: =(E34-D34)/D34 -> -1 | G34: =L34+M34 -> 4421209 | H34: 1081798 | I34: 1096263.5 | J34: =H34+I34 -> 2178061.5 | K34: 1110874.2 | L34: =J34+K34 -> 3288935.7 | M34: 1132273.3 | N34: =(G34-E34)/E34 -> #DIV/0! | O34: 4450000 | P34: 4800000 | S34: =X34+Y34 -> 0 | V34: =T34+U34 -> 0 | X34: =V34+W34 -> 0 | AC34: =G34 -> 4421209
A35: 2.6. | B35: Аренда | C35: тыс.руб. | D35: =SUM(D36:D39)+D41 -> 1080778.8 | E35: =SUM(E36:E39)+E41 -> 0 | F35: =(E35-D35)/D35 -> -1 | G35: =SUM(G36:G39)+G41 -> 1314232.4 | H35: =SUM(H36:H39)+H41 -> 329011.08 | I35: =SUM(I36:I39)+I41 -> 328572.71 | J35: =SUM(J36:J39)+J41 -> 657583.8 | K35: =SUM(K36:K39)+K41 -> 328163.11 | L35: =SUM(L36:L39)+L41 -> 985746.9 | M35: =SUM(M36:M39)+M41 -> 328485.54 | N35: =(G35-E35)/E35 -> #DIV/0! | O35: =SUM(O36:O39)+O41 -> 900000 | P35: =SUM(P36:P39)+P41 -> 900000 | S35: =SUM(S36:S39)+S41 -> 0 | T35: =SUM(T36:T39)+T41 -> 0 | U35: =SUM(U36:U39)+U41 -> 0 | V35: =SUM(V36:V39)+V41 -> 0 | W35: =SUM(W36:W39)+W41 -> 0 | X35: =SUM(X36:X39)+X41 -> 0 | Y35: =SUM(Y36:Y39)+Y41 -> 0 | AC35: =G35*0.98 -> 1287947.8
A36: 2.6.1. | B36: Аренда электрических сетей | C36: тыс.руб. | D36: 649385.49 | F36: =(E36-D36)/D36 -> -1 | G36: =L36+M36 -> 765295 | H36: 191325.04 | I36: 191324.04 | J36: =H36+I36 -> 382649.08 | K36: 191322.04 | L36: =J36+K36 -> 573971.12 | M36: 191323.88 | N36: =(G36-E36)/E36 -> #DIV/0! | O36: 600000 | P36: 600000 | S36: =X36+Y36 -> 0 | V36: =T36+U36 -> 0 | X36: =V36+W36 -> 0
A37: 2.6.2. | B37: Офисные здания, производственные помещения | C37: тыс.руб. | D37: 224037.34 | F37: =(E37-D37)/D37 -> -1 | G37: =L37+M37 -> 235342.05 | H37: 58954.463 | I37: 58687.463 | J37: =H37+I37 -> 117641.93 | K37: 58668.463 | L37: =J37+K37 -> 176310.39 | M37: 59031.663 | N37: =(G37-E37)/E37 -> #DIV/0! | O37: 50000 | P37: 50000 | S37: =X37+Y37 -> 0 | V37: =T37+U37 -> 0 | X37: =V37+W37 -> 0
A38: 2.6.4. | B38: Оборудование | C38: тыс.руб. | D38: 947.05812 | F38: =(E38-D38)/D38 -> -1 | G38: =L38+M38 -> 344.9702 | H38: 86.49255 | I38: 86.11255 | J38: =H38+I38 -> 172.6051 | K38: 85.92255 | L38: =J38+K38 -> 258.52765 | M38: 86.44255 | N38: =(G38-E38)/E38 -> #DIV/0! | S38: =X38+Y38 -> 0 | V38: =T38+U38 -> 0 | X38: =V38+W38 -> 0
A39: 2.6.5. | B39: Транспорт | C39: тыс.руб. | D39: 202543.29 | F39: =(E39-D39)/D39 -> -1 | G39: =L39+M39 -> 290217.4 | H39: 72639.724 | I39: 72594.724 | J39: =H39+I39 -> 145234.45 | K39: 72537.724 | L39: =J39+K39 -> 217772.17 | M39: 72445.225 | N39: =(G39-E39)/E39 -> #DIV/0! | O39: 250000 | P39: 250000 | S39: =X39+Y39 -> 0 | V39: =T39+U39 -> 0 | X39: =V39+W39 -> 0
B40: в т.ч. лизинг | C40: тыс.руб. | D40: 167390 | F40: =(E40-D40)/D40 -> -1 | G40: =L40+M40 -> 256273.06 | H40: 64068.265 | I40: 64068.265 | J40: =H40+I40 -> 128136.53 | K40: 64068.265 | L40: =J40+K40 -> 192204.79 | M40: 64068.265 | N40: =(G40-E40)/E40 -> #DIV/0! | O40: 200000 | P40: 200000 | S40: =X40+Y40 -> 0 | V40: =T40+U40 -> 0 | X40: =V40+W40 -> 0
A41: 2.6.6. | B41: Прочая | C41: тыс.руб. | D41: 3865.6231 | F41: =(E41-D41)/D41 -> -1 | G41: =L41+M41 -> 23033.033 | H41: 6005.3659 | I41: 5880.374 | J41: =H41+I41 -> 11885.74 | K41: 5548.9571 | L41: =J41+K41 -> 17434.697 | M41: 5598.3356 | N41: =(G41-E41)/E41 -> #DIV/0! | S41: =X41+Y41 -> 0 | V41: =T41+U41 -> 0 | X41: =V41+W41 -> 0
A42: 2.7. | B42: Расходы на содержание автотранспорта | C42: тыс.руб. | D42: =SUM(D43:D46) -> 336321.8 | E42: =SUM(E43:E46) -> 0 | F42: =(E42-D42)/D42 -> -1 | G42: =SUM(G43:G46) -> 392457.36 | H42: =SUM(H43:H46) -> 92386.158 | I42: =SUM(I43:I46) -> 98628.461 | J42: =SUM(J43:J46) -> 191014.62 | K42: =SUM(K43:K46) -> 98892.934 | L42: =SUM(L43:L46) -> 289907.55 | M42: =SUM(M43:M46) -> 102549.8 | N42: =(G42-E42)/E42 -> #DIV/0! | O42: =SUM(O43:O46) -> 406949.38 | P42: =SUM(P43:P46) -> 447644.31 | S42: =SUM(S43:S46) -> 0 | T42: =SUM(T43:T46) -> 0 | U42: =SUM(U43:U46) -> 0 | V42: =SUM(V43:V46) -> 0 | W42: =SUM(W43:W46) -> 0 | X42: =SUM(X43:X46) -> 0 | Y42: =SUM(Y43:Y46) -> 0
A43: 2.7.1. | B43: ГСМ | C43: тыс.руб. | D43: 180623.74 | F43: =(E43-D43)/D43 -> -1 | G43: =L43+M43 -> 195126.89 | H43: 49178.639 | I43: 46228.478 | J43: =H43+I43 -> 95407.117 | K43: 47312.52 | L43: =J43+K43 -> 142719.64 | M43: 52407.249 | N43: =(G43-E43)/E43 -> #DIV/0! | O43: 202331.74 | P43: 222564.92 | S43: =X43+Y43 -> 0 | V43: =T43+U43 -> 0 | X43: =V43+W43 -> 0
...

Sheet с расшифровкой
A2: Форма раскрытия информации о структуре и объемах затрат
A3: на оказание услуг по передаче электрической энергии сетевыми
A4: организациями, регулирование деятельности которых осуществляется
A5: методом долгосрочной индексации необходимой валовой выручки
C7: ИНН:
C8: КПП:
C9: Долгосрочный период регулирования:
A11: № п/п | J11: Показатель | BI11: Ед. изм. | BT11: Год | CN11: Примечание ***
BT12: план 2018 | CD12: факт 2018
A13: I | K13: Структура затрат | BI13: х | BT13: х | CD13: х | CN13: х
A14: 1 | K14: Необходимая валовая выручка на содержание | BI14: тыс. руб.
A15: 44927 | K15: Подконтрольные расходы, всего | BI15: тыс. руб.
A16: 36892 | K16: Материальные расходы, всего | BI16: тыс. руб.
A17: 1.1.1.1 | K17: в том числе на сырье, материалы, запасные части, инструмент, топливо | BI17: тыс. руб.
A18: 1.1.1.2 | K18: на ремонт | BI18: тыс. руб.
A19: 1.1.1.3 | K19: в том числе на работы и услуги производственного характера (в том числе услуги сторонних организаций по содержанию сетей и распределительных устройств) | BI19: тыс. руб.
A20: 1.1.1.3.1 | K20: в том числе на ремонт | BI20: тыс. руб.
A21: 37257 | K21: Фонд оплаты труда | BI21: тыс. руб.
A22: 1.1.2.1 | K22: в том числе на ремонт | BI22: тыс. руб.
A23: 37622 | K23: Прочие подконтрольные расходы (с расшифровкой) | BI23: тыс. руб.
A24: 1.1.3.1 | K24: в том числе прибыль на социальное развитие (включая социальные выплаты) | BI24: тыс. руб.
A25: 1.1.3.2 | K25: в том числе транспортные услуги | BI25: тыс. руб.
A26: 1.1.3.3 | K26: в том числе прочие расходы (с расшифровкой)**** | BI26: тыс. руб.
A27: 1.1.3.3.1 | K27: Услуги связи | BI27: тыс. руб.
A28: 1.1.3.3.2 | K28: Расходы на охрану и пожарную безопасность | BI28: тыс. руб.
A29: 1.1.3.3.3 | K29: расходы на командировки и представительские | BI29: тыс. руб.
A30: 1.1.3.3.4 | K30: расходы на обучение персонала | BI30: тыс. руб.
A31: 1.1.3.3.5 | K31: расходы на страхование | BI31: тыс. руб.
A32: 1.1.3.3.6 | K32: расходы на юридические услуги | BI32: тыс. руб.
A33: 1.1.3.3.7 | K33: расходы на консультационные услуги | BI33: тыс. руб.
A34: 1.1.3.3.8 | K34: расходы на аудиторские услуги | BI34: тыс. руб.
A35: 1.1.3.3.9 | K35: расходы на обеспечение нормальных условий труда и мер по технике безопасности | BI35: тыс. руб.
... A38: 1.1.3.3.11 | K38: иные расходы, связанные с производством и (или) реализацией | BI38: тыс. руб.
A39: 37987 | K39: Расходы на обслуживание операционных заемных средств в составе подконтрольных расходов | BI39: тыс. руб.
A40: 38353 | K40: Расходы из прибыли в составе подконтрольных расходов | BI40: тыс. руб.
A41: 44958 | K41: Неподконтрольные расходы, включенные в НВВ, всего | BI41: тыс. руб.
A42: 36923 | K42: Оплата услуг ОАО "ФСК ЕЭС" | BI42: тыс. руб.
A43: 37288 | K43: Расходы на оплату технологического присоединения к сетям смежной сетевой организации | BI43: тыс. руб.
A44: 37653 | K44: Плата за аренду имущества | BI44: тыс. руб.
A45: 38018 | K45: отчисления на социальные нужды | BI45: тыс. руб.
...
