Workbook

Sheet Мособлэнерго
BN1: Приложение 2
BN2: к приказу Федеральной службы по тарифам
BN3: от 24 октября 2014 г. № 1831-э
A5: Форма раскрытия информации о структуре и объемах затрат
A6: на оказание услуг по передаче электрической энергии сетевыми
A7: организациями, регулирование деятельности которых осуществляется
A8: методом долгосрочной индексации необходимой валовой выручки
C10: Наименование организации: | AG10: АО "Мособлэнерго"
C11: ИНН: | J11: 5032137342
C12: КПП: | J12: 500301001
C13: Долгосрочный период регулирования: | AQ13: 2015 | AY13: - | BA13: 2019 | BH13: гг.
A15: № п/п | J15: Показатель | BH15: Ед. изм. | BS15: 2015 год | CM15: Примечание ***
BS16: план * | CC16: факт **
A17: I | J17: Структура затрат | BH17: х | BS17: х | CC17: х | CM17: х
A18: 1 | J18: Необходимая валовая выручка на содержание | BH18: тыс. руб. | BS18: =BS19+BS33+BS47+BS49 -> 6796312.6 | CC18: =CC19+CC33+CC47+CC49 -> 7725664
A19: 1.1 | J19: Подконтрольные расходы, всего | BH19: тыс. руб. | BS19: =BS20+BS25+BS27+BS31+BS32 -> 3693373.6 | CC19: =CC20+CC25+CC27+CC31+CC32 -> 3809806.6 | DI19: =+BS20+BS25+BS27+BS31+BS32 -> 3693373.6 | DJ19: =+CC20+CC25+CC27+CC31+CC32 -> 3809806.6
A20: 1.1.1 | K20: Материальные расходы, всего | BH20: тыс. руб. | BS20: =+BS21+BS22+BS23 -> 1950661.5 | CC20: =+CC21+CC22+CC23 -> 1450529.4 | DI20: =+DI19-BS19 -> 0
A21: 1.1.1.1 | K21: в том числе на сырье, материалы, запасные части, инструмент, топливо | BH21: тыс. руб. | BS21: 56776.071 | CC21: 250618.81
A22: 1.1.1.2 | K22: на ремонт | BH22: тыс. руб. | BS22: 750099.46 | CC22: 750120.69
A23: 1.1.1.3 | K23: в том числе на работы и услуги производственного характера (в том числе услуги сторонних организаций по содержанию сетей и распределительных устройств) | BH23: тыс. руб. | BS23: 1143785.9 | CC23: 449789.95
A24: 1.1.1.3.1 | K24: в том числе на ремонт | BH24: тыс. руб.
A25: 1.1.2 | K25: Фонд оплаты труда | BH25: тыс. руб. | BS25: 1137634.3 | CC25: 1582368.4
A26: 1.1.2.1 | K26: в том числе на ремонт | BH26: тыс. руб.
A27: 1.1.3 | K27: Прочие подконтрольные расходы | BH27: тыс. руб. | BS27: =+BS28+BS29+BS30 -> 550886.64 | CC27: =+CC28+CC29+CC30 -> 290734.22
A28: 1.1.3.1 | K28: в том числе прибыль на социальное развитие (включая социальные выплаты) | BH28: тыс. руб. | BS28: 27534.617 | CC28: 16239.769
A29: 1.1.3.2 | K29: в том числе транспортные услуги | BH29: тыс. руб.
A30: 1.1.3.3 | K30: в том числе прочие расходы **** | BH30: тыс. руб. | BS30: 523352.02 | CC30: 274494.45
A31: 1.1.4 | K31: Расходы на обслуживание операционных заемных средств в составе подконтрольных расходов | BH31: тыс. руб. | BS31: 49983.371 | CC31: 204875.99
A32: 1.1.5 | K32: Расходы из прибыли в составе подконтрольных расходов | BH32: тыс. руб. | BS32: 4207.83 | CC32: 281298.53
A33: 1.2 | K33: Неподконтрольные расходы, включенные в НВВ, всего | BH33: тыс. руб. | BS33: =BS34+BS35+BS36+BS37+BS38+BS39+BS40+BS41+BS42+BS43+BS45+BS46 -> 1905355.8 | CC33: =CC34+CC35+CC36+CC37+CC38+CC39+CC40+CC41+CC42+CC43+CC45+CC46 -> 2095664.1 | DI33: =+BS34+BS35+BS36+BS37+BS38+BS39+BS40+BS41+BS42+BS43+BS45+BS46 -> 1905355.8 | DJ33: =+CC34+CC35+CC36+CC37+CC38+CC39+CC40+CC41+CC42+CC43+CC45+CC46 -> 2095664.1
A34: 1.2.1 | K34: Оплата услуг ОАО "ФСК ЕЭС" | BH34: тыс. руб. | BS34: 38577.371 | CC34: 86934.644
A35: 1.2.2 | K35: Расходы на оплату технологического присоединения к сетям смежной сетевой организации | BH35: тыс. руб.
A36: 1.2.3 | K36: Плата за аренду имущества | BH36: тыс. руб. | BS36: 327194.68 | CC36: 603621.31
A37: 1.2.4 | K37: отчисления на социальные нужды | BH37: тыс. руб. | BS37: 295784.91 | CC37: 443113.34
A38: 1.2.5 | K38: расходы на возврат и обслуживание долгосрочных заемных средств, направляемых на финансирование капитальных вложений | BH38: тыс. руб.
A39: 1.2.6 | K39: амортизация | BH39: тыс. руб. | BS39: 463510 | CC39: 851323
A40: 1.2.7 | K40: прибыль на капитальные вложения | BH40: тыс. руб. | BS40: 375068.23
A41: 1.2.8 | K41: налог на прибыль | BH41: тыс. руб. | BS41: 171897.92
A42: 1.2.9 | K42: прочие налоги | BH42: тыс. руб. | BS42: 59328.141 | CC42: 36526.924
A43: 1.2.10 | K43: Расходы сетевой организации, связанные с осуществлением технологического присоединения к электрическим сетям, не включенные в плату за технологическое присоединение | BH43: тыс. руб. | BS43: 100246.29
...

Sheet 20 счет передача
A1: АО "Мособлэнерго" с обособленными подразделениями
A2: Оборотно-сальдовая ведомость по счету 20 за 2015 г.
A4: Выводимые данные: | G4: 91 счет
A6: Счет | B6: Обороты за период
A7: Номенклатурные группы | B7: Дебет
A8: Статьи затрат
A9: Передача электрической энергии | B9: =SUM(B10:B86) -> 7.1463406e+09 | C9: =B9/1000 -> 7146340.6 | D9: =SUM(D10:D86) -> 7146340.6 | F9: =C9-D9 -> 0
A10: выявление неучтенного количества эл/энергии | B10: 435440.64 | C10: =B10/1000 -> 435.44064 | D10: =C10+C49+C43+C44+C55+C66+C71+C76+C80+C84+C86+C31+C78 -> 449789.95 | F10: производ хар | G10: _Страховые взносы с мат. помощи (до 2014 года) | H10: 39709.88 | I10: =H10/1000 -> 39.70988
A11: Амортизация 20 | B11: 851323000 | C11: =B11/1000 -> 851323 | D11: =C11 -> 851323 | E11: аморт вся | F11: аморт | G11: административные штрафы, исп. сборы | H11: 1276167.8 | I11: =H11/1000 -> 1276.1678
C12: =B12/1000 -> 0 | D12: =$C$36+$C$37+$C$74+$C$27 -> 250618.81 | F12: материалы | G12: благотворительные взносы | H12: 125000 | I12: =H12/1000 -> 125
A13: аренда земельных учасков (не муниципальные) | B13: 237791.26 | C13: =B13/1000 -> 237.79126 | D13: =SUM(C13:C18)+C35+C72 -> 603621.31 | F13: аренда + лизинг | G13: Вознаграждение | H13: 7443323.5 | I13: =H13/1000 -> 7443.3235
A14: аренда земельных участков (муниципальные) | B14: 506997.33 | C14: =B14/1000 -> 506.99733 | G14: госпошлина | H14: 3416204.2 | I14: =H14/1000 -> 3416.2042
A15: Аренда помещения | B15: 1200185.9 | C15: =B15/1000 -> 1200.1859 | G15: детские подарки | H15: 1503044 | I15: =H15/1000 -> 1503.044 | J15: =I15+I17 -> 16239.769 | K15: соц.хар
A16: аренда прочего имущества | B16: 94646838 | C16: =B16/1000 -> 94646.838 | G16: Компенсация за аренду жилья | H16: 2239024 | I16: =H16/1000 -> 2239.024
A17: аренда прочего произодственного имущества | B17: 74079510 | C17: =B17/1000 -> 74079.51 | G17: материальная помощь | H17: 14736725 | I17: =H17/1000 -> 14736.725
A18: аренда электросетевого имущества | B18: 3.3039197e+08 | C18: =B18/1000 -> 330391.97 | G18: налог на имущество | H18: 35091300 | I18: =H18/1000 -> 35091.3
A19: взносы во внебюджетные фонды для 08 счета | B19: 324.6 | C19: =B19/1000 -> 0.3246 | D19: =SUM(C19:C24) -> 443113.34 | F19: страховые | G19: невозмещаемый (восстановленный) НДС | H19: 5427720 | I19: =H19/1000 -> 5427.72
A20: взносы во внебюджетные фонды для 20 счета | B20: 3.0277151e+08 | C20: =B20/1000 -> 302771.51 | G20: оценочные обязательства по судебным разбирательствам | H20: 18346369 | I20: =H20/1000 -> 18346.369
A21: взносы во внебюджетные фонды для счета 26 | B21: 1.3428139e+08 | C21: =B21/1000 -> 134281.39 | G21: оценочные резервы по сомнительны долгам | H21: 13698942 | I21: =H21/1000 -> 13698.942
A22: взносы на страхование от несчастных случаев для 08 счета | B22: 4.33 | C22: =B22/1000 -> 0.00433 | G22: проценты к уплате в пределах норм | H22: 2.0487599e+08 | I22: =H22/1000 -> 204875.99
A23: взносы на страхование от несчастных случаев для 20 счета | B23: 3950616.8 | C23: =B23/1000 -> 3950.6168 | G23: Прочие внереализационные доходы (расходы) | H23: 51.06 | I23: =H23/1000 -> 0.05106
A24: взносы на страхование от несчастных случаев для счета 26 | B24: 2109492.3 | C24: =B24/1000 -> 2109.4923 | G24: прочие доходы | H24: 27059 | I24: =H24/1000 -> 27.059
A25: ДМС | B25: 88430921 | C25: =B25/1000 -> 88430.921 | D25: =C25+C30+C32+C33+C34+C38+C39+C45+C46+C50+C51+C52+C54+C56+C57+C58+C59+C60+C61+C63+C64+C65+C67+C68+C69+C70+C73+C75+C77+C79+C82+C85+C42 -> 274494.45 | F25: прочие непроиз | G25: прочие неучитываемые расходы | H25: 33596863 | I25: =H25/1000 -> 33596.863
A26: земельный налог | B26: 96701.89 | C26: =B26/1000 -> 96.70189 | D26: =C26+C81 -> 1435.6243 | E26: =D26+I18 -> 36526.924 | F26: налоги | G26: прочие учитываемые расходы | H26: 177940.31 | I26: =H26/1000 -> 177.94031
A27: канцтовары | B27: 13948544 | C27: =B27/1000 -> 13948.544 | G27: Разницы стоимости возврата и фактической стоимости товаров | H27: 2499.57 | I27: =H27/1000 -> 2.49957
A28: Капитальный ремонт эл/сетевого оборудования подрядным способом | B28: 6.0860522e+08 | C28: =B28/1000 -> 608605.22 | D28: =C28+C29+C40+C41 -> 750120.69 | E28: поправила из прочих | F28: КР | G28: Расходы от реализации прочего имущества | H28: 11658517 | I28: =H28/1000 -> 11658.517
A29: Капитальный ремонт эл/сетевого оборудования хозяйственным способом | B29: 106450269 | C29: =B29/1000 -> 106450.27 | G29: расходы по операциям с акциями | H29: 74480 | I29: =H29/1000 -> 74.48
A30: командировочные расходы 26 | B30: 3099777.9 | C30: =B30/1000 -> 3099.7779 | G30: Расходы по уплате страховых взносов | H30: 2813.29 | I30: =H30/1000 -> 2.81329
A31: коммерческий учет электрической энергии | B31: 1900930.6 | C31: =B31/1000 -> 1900.9306 | G31: сверхнормативные потери | H31: 41817841 | I31: =H31/1000 -> 41817.841
A32: Коммунальные услуги | B32: 3589142.8 | C32: =B32/1000 -> 3589.1428 | G32: списание дебиторской задолженности | H32: 46617230 | I32: =H32/1000 -> 46617.23
A33: Коммунальные услуги + электроэнергия | B33: 16812310 | C33: =B33/1000 -> 16812.31 | G33: Списание дебиторской задолжности | H33: 1.2000267e+08 | I33: =H33/1000 -> 120002.67
A34: консультационно-информационные услуги | B34: 13384564 | C34: =B34/1000 -> 13384.564 | G34: списание ОС (недоначисленная амортизация) | H34: 175667.13 | I34: =H34/1000 -> 175.66713
A35: лизинговые платежи | B35: 63349088 | C35: =B35/1000 -> 63349.088 | G35: услуги банков | H35: 5303176.5 | I35: =H35/1000 -> 5303.1765
A36: Материалы 20 | B36: 1.3921314e+08 | C36: =B36/1000 -> 139213.14 | G36: уценка акций | H36: 11110.46 | I36: =H36/1000 -> 11.11046
A37: материалы 26 | B37: 46730497 | C37: =B37/1000 -> 46730.497 | G37: штрафы, пени, неустойки по решению суда | H37: 11635992 | I37: =H37/1000 -> 11635.992
A38: медосмотры | B38: 5061302.1 | C38: =B38/1000 -> 5061.3021 | G38: ИТОГО | I38: =SUM(I10:I37) -> 579323.43
A39: Медосмотры (до 2014 года) | B39: 295798.55 | C39: =B39/1000 -> 295.79855 | G39: ПРОЧИЕ ИЗ ПРИБЫЛИ | I39: =I38-I31-I22-I18-I17-I15 -> 281298.53
A40: Наладка РЗА | B40: 10291100 | C40: =B40/1000 -> 10291.1
A41: Неотложные работы по расчистке трасс | B41: 24774094 | C41: =B41/1000 -> 24774.094
A42: нотариальные расходы | B42: 484782.11 | C42: =B42/1000 -> 484.78211
...

Sheet БДР
A1: АО "Московская областная энергосетевая компания"
AL2: =+[1]Филиалы!AL10 -> 632.03 | AM2: =+[1]Филиалы!AN10 -> 497.35722 | AN2: =+[1]Филиалы!AM10 -> 11741.808 | CA2: =+CA3-CA4 -> 0 | CB2: =+CB3-CB4 -> 0 | CJ2: =+CJ4-CJ191 -> 0 | CK2: =+CK3-CK20 -> 0 | EG2: =+EG81+EG26 -> 493017.27
A3: Бюджет доходов и расходов за 2015 г. | AL3: 1557782 | AM3: 42607 | AN3: 17159 | AV3: =+AV4-AV191 -> 0 | AW3: =+AW4-AW191 -> -0.06 | AX3: =+AX4-AX191 -> 0 | BO3: =+[1]Аппарат!BO186+[1]Филиалы!BO121 -> 653291.22 | BY3: =+[1]Аппарат!BY186+[1]Филиалы!BY121 -> 1737755.6 | BZ3: =+BP191+BF191+AV191 -> 1619746.7 | CA3: =+BQ191+BG191+AW191 -> 108137.33 | CB3: =+BR191+BH191+AX191 -> 9871.5111 | CI3: =+[1]Аппарат!CI186+[1]Филиалы!CI121 -> 3586537.5 | CJ3: =+[1]Аппарат!CJ20+[1]Филиалы!CJ11 -> 3299452.6 | CK3: =+[1]Аппарат!CK20+[1]Филиалы!CL11 -> 131754.3 | CL3: =+[1]Аппарат!CL20+[1]Филиалы!CK11 -> 35027.445 | CS3: =+[1]Аппарат!CS186+[1]Филиалы!CS121 -> 430547.03 | DM3: =+[1]Аппарат!DM186+[1]Филиалы!DM121 -> 742900.54 | DW3: =+[1]Аппарат!DW186+[1]Филиалы!DW121 -> 1769677.9 | EG3: =+[1]Аппарат!EG186+[1]Филиалы!EG121 -> 5356215.4 | EH3: =+[1]Аппарат!EG199+[1]Филиалы!EG130 -> 333834.73 | EI3: =+EG36/EG34 -> 0.28262518 | EQ3: =+[1]Аппарат!EQ54+[1]Филиалы!EQ32 -> 17536.635 | ER3: =+EQ3-EQ57 -> 0 | GP3: =GP191+GP218+GP225 -> 7498995.6 | GQ3: =+GQ34/GO34 -> 0.083191309
AL4: =+AL3-AL20 -> -68.222 | AM4: =+AM3-AM20 -> -0.11522 | AN4: =+AN3-AN20 -> 68.79318 | AV4: =+[1]Аппарат!AV186+[1]Филиалы!AV121 -> 504391.88 | AW4: =+[1]Аппарат!AW186+[1]Филиалы!AX121 -> 21121.668 | AX4: =+[1]Аппарат!AX186+[1]Филиалы!AW121 -> 3063.4027 | BF4: =+[1]Аппарат!BF186+[1]Филиалы!BF121 -> 508433.07 | BP4: =+[1]Аппарат!BP186+[1]Филиалы!BP121 -> 606921.78 | BZ4: =+[1]Аппарат!BZ186+[1]Филиалы!BZ121 -> 1619746.7 | CA4: =+[1]Аппарат!CA186+[1]Филиалы!CB121 -> 108137.33 | CB4: =+[1]Аппарат!CB186+[1]Филиалы!CA121 -> 9871.5111 | CJ4: =+[1]Аппарат!CJ186+[1]Филиалы!CJ121 -> 3286481.1
C5: ЯНВАРЬ | M5: ФЕВРАЛЬ | W5: МАРТ | AG5: I КВАРТАЛ | AQ5: АПРЕЛЬ | BA5: МАЙ | BK5: ИЮНЬ | BU5: II КВАРТАЛ | CE5: I ПОЛУГОДИЕ | CO5: ИЮЛЬ | CY5: АВГУСТ | DI5: СЕНТЯБРЬ | DS5: III КВАРТАЛ | EC5: 9 МЕСЯЦЕВ | EM5: ОКТЯБРЬ | EW5: НОЯБРЬ | FG5: ДЕКАБРЬ | FQ5: IV КВАРТАЛ | GA5: II ПОЛУГОДИЕ | GK5: 2015 ГОД | GV5: без шатуры | GW5: 1С 1 полугодие
C6: План | D6: передача эл.энергии | E6: тех.присоединение | F6: ПВД | G6: Факт | H6: передача эл.энергии | I6: тех.присоединение | J6: ПВД | K6: Отклонение | M6: План | N6: передача эл.энергии | O6: тех.присоединение | P6: ПВД | Q6: Факт | R6: передача эл.энергии | S6: тех.присоединение | T6: ПВД | U6: Отклонение | W6: План | X6: передача эл.энергии | Y6: тех.присоединение | Z6: ПВД | AA6: Факт | AB6: передача эл.энергии | AC6: тех.присоединение | AD6: ПВД | AE6: Отклонение | AG6: План | AH6: передача эл.энергии | AI6: тех.присоединение | AJ6: ПВД | AK6: Факт | AL6: передача эл.энергии | AM6: тех.присоединение | AN6: ПВД | AO6: Отклонение | AQ6: План | AR6: передача эл.энергии | AS6: тех.присоединение | AT6: ПВД | AU6: Факт | AV6: передача эл.энергии | AW6: тех.присоединение | AX6: ПВД | AY6: Отклонение | BA6: План | BB6: передача эл.энергии | BC6: тех.присоединение | BD6: ПВД | BE6: Факт | BF6: передача эл.энергии | BG6: тех.присоединение | BH6: ПВД | BI6: Отклонение | BK6: План | BL6: передача эл.энергии | BM6: тех.присоединение | BN6: ПВД | BO6: Факт | BP6: передача эл.энергии | BQ6: тех.присоединение | BR6: ПВД | BS6: Отклонение | BU6: План | BV6: передача эл.энергии | BW6: тех.присоединение | BX6: ПВД | BY6: Факт | BZ6: передача эл.энергии | CA6: тех.присоединение | CB6: ПВД | CC6: Отклонение | CE6: План | CF6: передача эл.энергии | CG6: тех.присоединение | CH6: ПВД | CI6: Факт | CJ6: передача эл.энергии | CK6: тех.присоединение | CL6: ПВД | CM6: Отклонение | CO6: План | CP6: передача эл.энергии | CQ6: тех.присоединение | CR6: ПВД | CS6: Факт | CT6: передача эл.энергии | CU6: тех.присоединение | CV6: ПВД | CW6: Отклонение | CY6: План | CZ6: передача эл.энергии | DA6: тех.присоединение | DB6: ПВД | DC6: Факт | DD6: передача эл.энергии | DE6: тех.присоединение | DF6: ПВД | DG6: Отклонение | DI6: План | DJ6: передача эл.энергии | DK6: тех.присоединение | DL6: ПВД | DM6: Факт | DN6: передача эл.энергии | DO6: тех.присоединение | DP6: ПВД | DQ6: Отклонение | DS6: План | DT6: передача эл.энергии | DU6: тех.присоединение | DV6: ПВД | DW6: Факт | DX6: передача эл.энергии | DY6: тех.присоединение | DZ6: ПВД | EA6: Отклонение | EC6: План | ED6: передача эл.энергии | EE6: тех.присоединение | EF6: ПВД | EG6: Факт | EH6: передача эл.энергии | EI6: тех.присоединение | EJ6: ПВД | EK6: Отклонение | EM6: План | EN6: передача эл.энергии | EO6: тех.присоединение | EP6: ПВД | EQ6: Факт | ER6: передача эл.энергии | ES6: тех.присоединение | ET6: ПВД | EU6: Отклонение | EW6: План | EX6: передача эл.энергии | EY6: тех.присоединение | EZ6: ПВД | FA6: Факт | FB6: передача эл.энергии | FC6: тех.присоединение | FD6: ПВД | FE6: Отклонение | FG6: План | FH6: передача эл.энергии | FI6: тех.присоединение | FJ6: ПВД | FK6: Факт | FL6: передача эл.энергии | FM6: тех.присоединение | FN6: ПВД | FO6: Отклонение | FQ6: План | FR6: передача эл.энергии | FS6: тех.присоединение | FT6: ПВД | FU6: Факт | FV6: передача эл.энергии | FW6: тех.присоединение | FX6: ПВД | FY6: Отклонение | GA6: План | GB6: передача эл.энергии | GC6: тех.присоединение | GD6: ПВД | GE6: Факт | GF6: передача эл.энергии | GG6: тех.присоединение | GH6: ПВД | GI6: Отклонение | GK6: План | GL6: передача эл.энергии | GM6: тех.присоединение | GN6: ПВД | GO6: Факт | GP6: передача эл.энергии | GQ6: тех.присоединение | GR6: ПВД | GS6: Отклонение
K7: тыс.руб. | L7: % | U7: тыс.руб. | V7: % | AE7: тыс.руб. | AF7: % | AO7: тыс.руб. | AP7: % | AY7: тыс.руб. | AZ7: % | BI7: тыс.руб. | BJ7: % | BS7: тыс.руб. | BT7: % | CC7: тыс.руб. | CD7: % | CM7: тыс.руб. | CN7: % | CW7: тыс.руб. | CX7: % | DG7: тыс.руб. | DH7: % | DQ7: тыс.руб. | DR7: % | EA7: тыс.руб. | EB7: % | EK7: тыс.руб. | EL7: % | EU7: тыс.руб. | EV7: % | FE7: тыс.руб. | FF7: % | FO7: тыс.руб. | FP7: % | FY7: тыс.руб. | FZ7: % | GI7: тыс.руб. | GJ7: % | GS7: тыс.руб. | GT7: %
A8: 1 | B8: 2 | C8: 2 | D8: 4 | E8: 5 | F8: 6 | G8: 7 | H8: 9 | I8: 10 | J8: 11 | K8: 12 | L8: 13 | M8: 2 | N8: 3 | O8: 5 | P8: 6 | Q8: 7 | R8: 8 | S8: 10 | T8: 11 | U8: 12 | V8: 13 | W8: 2 | X8: 3 | Y8: 4 | Z8: 6 | AA8: 7 | AB8: 8 | AC8: 10 | AD8: 11 | AE8: 12 | AF8: 13 | AG8: 2 | AH8: 3 | AI8: 4 | AJ8: 6 | AK8: 7 | AL8: 8 | AM8: 9 | AN8: 11 | AO8: 12 | AP8: 13 | AQ8: 2 | AR8: 3 | AS8: 5 | AT8: 6 | AU8: 7 | AV8: 8 | AW8: 10 | AX8: 11 | AY8: 12 | AZ8: 13 | BA8: 2 | BB8: 3 | BC8: 5 | BD8: 6 | BE8: 7 | BF8: 8 | BG8: 10 | BH8: 11 | BI8: 12 | BJ8: 13 | BK8: 2 | BL8: 3 | BM8: 5 | BN8: 6 | BO8: 7 | BP8: 8 | BQ8: 10 | BR8: 11 | BS8: 12 | BT8: 13 | BU8: 2 | BV8: 3 | BW8: 5 | BX8: 6 | BY8: 7 | BZ8: 8 | CA8: 10 | CB8: 11 | CC8: 12 | CD8: 13 | CE8: 2 | CF8: 3 | CG8: 5 | CH8: 6 | CI8: 7 | CJ8: 8 | CK8: 10 | CL8: 11 | CM8: 12 | CN8: 13 | CO8: 2 | CP8: 4 | CQ8: 5 | CR8: 6 | CS8: 7 | CT8: 9 | CU8: 10 | CV8: 11 | CW8: 12 | CX8: 13 | CY8: 2 | CZ8: 3 | DA8: 5 | DB8: 6 | DC8: 7 | DD8: 8 | DE8: 10 | DF8: 11 | DG8: 12 | DH8: 13 | DI8: 2 | DJ8: 3 | DK8: 4 | DL8: 6 | DM8: 7 | DN8: 8 | DO8: 10 | DP8: 11 | DQ8: 12 | DR8: 13 | DS8: 2 | DT8: 3 | DU8: 4 | DV8: 6 | DW8: 7 | DX8: 8 | DY8: 9 | DZ8: 11 | EA8: 12 | EB8: 13 | EC8: 2 | ED8: 3 | EE8: 4 | EF8: 6 | EG8: 7 | EH8: 8 | EI8: 9 | EJ8: 11 | EK8: 12 | EL8: 13 | EM8: 2 | EN8: 3 | EO8: 5 | EP8: 6 | EQ8: 7 | ER8: 8 | ES8: 10 | ET8: 11 | EU8: 12 | EV8: 13 | EW8: 2 | EX8: 3 | EY8: 5 | EZ8: 6 | FA8: 7 | FB8: 8 | FC8: 10 | FD8: 11 | FE8: 12 | FF8: 13 | FG8: 2 | FH8: 3 | FI8: 5 | FJ8: 6 | FK8: 7 | FL8: 8 | FM8: 10 | FN8: 11 | FO8: 12 | FP8: 13 | FQ8: 2 | FR8: 3 | FS8: 5 | FT8: 6 | FU8: 7 | FV8: 8 | FW8: 10 | FX8: 11 | FY8: 12 | FZ8: 13 | GA8: 2 | GB8: 3 | GC8: 5 | GD8: 6 | GE8: 7 | GF8: 8 | GG8: 10 | GH8: 11 | GI8: 12 | GJ8: 13 | GK8: 2 | GL8: 3 | GM8: 5 | GN8: 6 | GO8: 7 | GP8: 8 | GQ8: 10 | GR8: 11 | GS8: 12 | GT8: 13
A9: Выручка | B9: Выручка от передачи электрической энергии | C9: =SUM(D9:E10) -> 1300822.2 | D9: =SUM(D10:D11) -> 650411.1 | E9: =SUM(E10:E11) -> 0 | F9: =SUM(F10:F11) -> 0 | G9: =SUM(H9:J9) -> 559132.58 | H9: =SUM(H10:H11) -> 559132.58 | I9: =SUM(I10:I11) -> 0 | J9: =SUM(J10:J11) -> 0 | K9: =+C9-G9 -> 741689.62 | L9: =+G9/C9*100-100 -> -57.016986 | M9: =SUM(N9:P9) -> 611106.52 | N9: =SUM(N10:N11) -> 611106.52 | O9: =SUM(O10:O11) -> 0 | P9: =SUM(P10:P11) -> 0 | Q9: =SUM(R9:T9) -> 502837.28 | R9: =SUM(R10:R11) -> 502837.28 | S9: =SUM(S10:S11) -> 0 | T9: =SUM(T10:T11) -> 0 | U9: =+M9-Q9 -> 108269.24 | V9: =+Q9/M9*100-100 -> -17.716918 | W9: =SUM(X9:Z9) -> 599222.59 | X9: =SUM(X10:X11) -> 599222.59 | Y9: =SUM(Y10:Y11) -> 0 | Z9: =SUM(Z10:Z11) -> 0 | AA9: =SUM(AB9:AD9) -> 477480.97 | AB9: =SUM(AB10:AB11) -> 477480.97 | AC9: =SUM(AC10:AC11) -> 0 | AD9: =SUM(AD10:AD11) -> 0 | AE9: =+W9-AA9 -> 121741.62 | AF9: =+AA9/W9*100-100 -> -20.316594 | AG9: =SUM(AH9:AJ9) -> 1860740.2 | AH9: =SUM(AH10:AH11) -> 1860740.2 | AI9: =SUM(AI10:AI11) -> 0 | AJ9: =SUM(AJ10:AJ11) -> 0 | AK9: =SUM(AL9:AN9) -> 1539450.8 | AL9: =SUM(AL10:AL11) -> 1539450.8 | AM9: =SUM(AM10:AM11) -> 0 | AN9: =SUM(AN10:AN11) -> 0 | AO9: =+AG9-AK9 -> 321289.38 | AP9: =+AK9/AG9*100-100 -> -17.266751 | AQ9: =SUM(AR9:AT9) -> 552370.9 | AR9: =SUM(AR10:AR11) -> 552370.9 | AS9: =SUM(AS10:AS11) -> 0 | AT9: =SUM(AT10:AT11) -> 0 | AU9: =SUM(AV9:AX9) -> 527413.17 | AV9: =SUM(AV10:AV11) -> 527413.17 | AW9: =SUM(AW10:AW11) -> 0 | AX9: =SUM(AX10:AX11) -> 0 | AY9: =+AQ9-AU9 -> 24957.732 | AZ9: =+AU9/AQ9*100-100 -> -4.5182923 | BA9: =SUM(BB9:BD9) -> 464339.09 | BB9: =SUM(BB10:BB11) -> 464339.09 | BC9: =SUM(BC10:BC11) -> 0 | BD9: =SUM(BD10:BD11) -> 0 | BE9: =SUM(BF9:BH9) -> 749829.93 | BF9: =SUM(BF10:BF11) -> 749829.93 | BG9: =SUM(BG10:BG11) -> 0 | BH9: =SUM(BH10:BH11) -> 0 | BI9: =+BA9-BE9 -> -285490.84 | BJ9: =+BE9/BA9*100-100 -> 61.483265 | BK9: =SUM(BL9:BN9) -> 438224.37 | BL9: =SUM(BL10:BL11) -> 438224.37 | BM9: =SUM(BM10:BM11) -> 0 | BN9: =SUM(BN10:BN11) -> 0 | BO9: =SUM(BP9:BR9) -> 455594.58 | BP9: =SUM(BP10:BP11) -> 455594.58 | BQ9: =SUM(BQ10:BQ11) -> 0 | BR9: =SUM(BR10:BR11) -> 0 | BS9: =+BK9-BO9 -> -17370.201 | BT9: =+BO9/BK9*100-100 -> 3.9637687 | BU9: =SUM(BV9:BX9) -> 1454934.4 | BV9: =SUM(BV10:BV11) -> 1454934.4 | BW9: =SUM(BW10:BW11) -> 0 | BX9: =SUM(BX10:BX11) -> 0 | BY9: =SUM(BZ9:CB9) -> 1732837.7 | BZ9: =SUM(BZ10:BZ11) -> 1732837.7 | CA9: =SUM(CA10:CA11) -> 0 | CB9: =SUM(CB10:CB11) -> 0 | CC9: =+BU9-BY9 -> -277903.3 | CD9: =+BY9/BU9*100-100 -> 19.100745 | CE9: =SUM(CF9:CH9) -> 3315674.6 | CF9: =SUM(CF10:CF11) -> 3315674.6 | CG9: =SUM(CG10:CG11) -> 0 | CH9: =SUM(CH10:CH11) -> 0 | CI9: =SUM(CJ9:CL9) -> 3272288.5 | CJ9: =SUM(CJ10:CJ11) -> 3272288.5 | CK9: =SUM(CK10:CK11) -> 0 | CL9: =SUM(CL10:CL11) -> 0 | CM9: =+CE9-CI9 -> 43386.076 | CN9: =+CI9/CE9*100-100 -> -1.3085143 | CO9: =SUM(CP9:CQ10) -> 918554.35 | CP9: =SUM(CP10:CP11) -> 459277.17 | CQ9: =SUM(CQ10:CQ11) -> 0 | CR9: =SUM(CR10:CR11) -> 0 | CS9: =SUM(CT9:CV9) -> 468163.96 | CT9: =SUM(CT10:CT11) -> 468163.96 | CU9: =SUM(CU10:CU11) -> 0 | CV9: =SUM(CV10:CV11) -> 0 | CW9: =+CO9-CS9 -> 450390.39 | CX9: =+CS9/CO9*100-100 -> -49.032525 | CY9: =SUM(CZ9:DB9) -> 473212.67 | CZ9: =SUM(CZ10:CZ11) -> 473212.67 | DA9: =SUM(DA10:DA11) -> 0 | DB9: =SUM(DB10:DB11) -> 0 | DC9: =SUM(DD9:DF9) -> 466106.39 | DD9: =SUM(DD10:DD11) -> 466106.39 | DE9: =SUM(DE10:DE11) -> 0 | DF9: =SUM(DF10:DF11) -> 0 | DG9: =+CY9-DC9 -> 7106.2813 | DH9: =+DC9/CY9*100-100 -> -1.5017098 | DI9: =SUM(DJ9:DL9) -> 494968.87 | DJ9: =SUM(DJ10:DJ11) -> 494968.87 | DK9: =SUM(DK10:DK11) -> 0 | DL9: =SUM(DL10:DL11) -> 0 | DM9: =SUM(DN9:DP9) -> 512838.91 | DN9: =SUM(DN10:DN11) -> 512838.91 | DO9: =SUM(DO10:DO11) -> 0 | DP9: =SUM(DP10:DP11) -> 0 | DQ9: =+DI9-DM9 -> -17870.039 | DR9: =+DM9/DI9*100-100 -> 3.610336 | DS9: =SUM(DT9:DV9) -> 1427458.7 | DT9: =SUM(DT10:DT11) -> 1427458.7 | DU9: =SUM(DU10:DU11) -> 0 | DV9: =SUM(DV10:DV11) -> 0 | DW9: =SUM(DX9:DZ9) -> 1447109.3 | DX9: =SUM(DX10:DX11) -> 1447109.3 | DY9: =SUM(DY10:DY11) -> 0 | DZ9: =SUM(DZ10:DZ11) -> 0 | EA9: =+DS9-DW9 -> -19650.546 | EB9: =+DW9/DS9*100-100 -> 1.3766104 | EC9: =SUM(ED9:EF9) -> 4743133.3 | ED9: =SUM(ED10:ED11) -> 4743133.3 | EE9: =SUM(EE10:EE11) -> 0 | EF9: =SUM(EF10:EF11) -> 0 | EG9: =SUM(EH9:EJ9) -> 4719397.8 | EH9: =SUM(EH10:EH11) -> 4719397.8 | EI9: =SUM(EI10:EI11) -> 0 | EJ9: =SUM(EJ10:EJ11) -> 0 | EK9: =+EC9-EG9 -> 23735.531 | EL9: =+EG9/EC9*100-100 -> -0.5004188 | EM9: =SUM(EN9:EP9) -> 591603.34 | EN9: =SUM(EN10:EN11) -> 591603.34 | EO9: =SUM(EO10:EO11) -> 0 | EP9: =SUM(EP10:EP11) -> 0 | EQ9: =SUM(ER9:ET9) -> 576616.14 | ER9: =SUM(ER10:ER11) -> 576616.14 | ES9: =SUM(ES10:ES11) -> 0 | ET9: =SUM(ET10:ET11) -> 0 | EU9: =+EM9-EQ9 -> 14987.2 | EV9: =+EQ9/EM9*100-100 -> -2.5333191 | EW9: =SUM(EX9:EZ9) -> 611931.56 | EX9: =SUM(EX10:EX11) -> 611931.56 | EY9: =SUM(EY10:EY11) -> 0 | EZ9: =SUM(EZ10:EZ11) -> 0 | FA9: =SUM(FB9:FD9) -> 623012.85 | FB9: =SUM(FB10:FB11) -> 623012.85 | FC9: =SUM(FC10:FC11) -> 0 | FD9: =SUM(FD10:FD11) -> 0 | FE9: =+EW9-FA9 -> -11081.294 | FF9: =+FA9/EW9*100-100 -> 1.8108715 | FG9: =SUM(FH9:FJ9) -> 682783.95 | FH9: =SUM(FH10:FH11) -> 682783.95 | FI9: =SUM(FI10:FI11) -> 0 | FJ9: =SUM(FJ10:FJ11) -> 0 | FK9: =SUM(FL9:FN9) -> 670797.08 | FL9: =SUM(FL10:FL11) -> 670797.08 | FM9: =SUM(FM10:FM11) -> 0 | FN9: =SUM(FN10:FN11) -> 0 | FO9: =+FG9-FK9 -> 11986.868 | FP9: =+FK9/FG9*100-100 -> -1.7555873 | FQ9: =SUM(FR9:FT9) -> 1886318.8 | FR9: =SUM(FR10:FR11) -> 1886318.8 | FS9: =SUM(FS10:FS11) -> 0 | FT9: =SUM(FT10:FT11) -> 0 | FU9: =SUM(FV9:FX9) -> 1870426.1 | FV9: =SUM(FV10:FV11) -> 1870426.1 | FW9: =SUM(FW10:FW11) -> 0 | FX9: =SUM(FX10:FX11) -> 0 | FY9: =+FQ9-FU9 -> 15892.774 | FZ9: =+FU9/FQ9*100-100 -> -0.84252852 | GA9: =SUM(GB9:GD9) -> 3313777.6 | GB9: =SUM(GB10:GB11) -> 3313777.6 | GC9: =SUM(GC10:GC11) -> 0 | GD9: =SUM(GD10:GD11) -> 0 | GE9: =SUM(GF9:GH9) -> 3317535.3 | GF9: =SUM(GF10:GF11) -> 3317535.3 | GG9: =SUM(GG10:GG11) -> 0 | GH9: =SUM(GH10:GH11) -> 0 | GI9: =+GA9-GE9 -> -3757.7713 | GJ9: =+GE9/GA9*100-100 -> 0.11339842 | GK9: =SUM(GL9:GN9) -> 6629452.1 | GL9: =SUM(GL10:GL11) -> 6629452.1 | GM9: =SUM(GM10:GM11) -> 0 | GN9: =SUM(GN10:GN11) -> 0 | GO9: =SUM(GP9:GR9) -> 6589823.8 | GP9: =SUM(GP10:GP11) -> 6589823.8 | GQ9: =SUM(GQ10:GQ11) -> 0 | GR9: =SUM(GR10:GR11) -> 0 | GS9: =+GK9-GO9 -> 39628.305 | GT9: =+GO9/GK9*100-100 -> -0.59776138 | GX9: =+GW9-CI9 -> -3272288.5
B10: По одноставочному тарифу | C10: =SUM(D10:F10) -> 650411.1 | D10: =+[1]Аппарат!D10 -> 650411.1 | E10: =+[1]Аппарат!E10 -> 0 | F10: =+[1]Аппарат!F10 -> 0 | G10: =SUM(H10:J10) -> 559132.58 | H10: =+[1]Аппарат!H10 -> 559132.58 | I10: =+[1]Аппарат!I10 -> 0 | J10: =+[1]Аппарат!J10 -> 0 | K10: =+C10-G10 -> 91278.517 | L10: =+G10/C10*100-100 -> -14.033973 | M10: =SUM(N10:P10) -> 611106.52 | N10: =+[1]Аппарат!N10 -> 611106.52 | O10: =+[1]Аппарат!O10 -> 0 | P10: =+[1]Аппарат!P10 -> 0 | Q10: =SUM(R10:T10) -> 502837.28 | R10: =+[1]Аппарат!R10 -> 502837.28 | S10: =+[1]Аппарат!S10 -> 0 | T10: =+[1]Аппарат!T10 -> 0 | U10: =+M10-Q10 -> 108269.24 | V10: =+Q10/M10*100-100 -> -17.716918 | W10: =SUM(X10:Z10) -> 599222.59 | X10: =+[1]Аппарат!X10 -> 599222.59 | Y10: =+[1]Аппарат!Y10 -> 0 | Z10: =+[1]Аппарат!Z10 -> 0 | AA10: =SUM(AB10:AD10) -> 477480.97 | AB10: =+[1]Аппарат!AB10 -> 477480.97 | AC10: =+[1]Аппарат!AC10 -> 0 | AD10: =+[1]Аппарат!AD10 -> 0 | AE10: =+W10-AA10 -> 121741.62 | AF10: =+AA10/W10*100-100 -> -20.316594 | AG10: =SUM(AH10:AJ10) -> 1860740.2 | AH10: =+D10+N10+X10 -> 1860740.2 | AI10: =+E10+O10+Y10 -> 0 | AJ10: =+F10+P10+Z10 -> 0 | AK10: =SUM(AL10:AN10) -> 1539450.8 | AL10: =+H10+R10+AB10 -> 1539450.8 | AM10: =+I10+S10+AC10 -> 0 | AN10: =+J10+T10+AD10 -> 0 | AO10: =+AG10-AK10 -> 321289.38 | AP10: =+AK10/AG10*100-100 -> -17.266751 | AQ10: =SUM(AR10:AT10) -> 552370.9 | AR10: =+[1]Аппарат!AR10 -> 552370.9 | AS10: =+[1]Аппарат!AS10 -> 0 | AT10: =+[1]Аппарат!AT10 -> 0 | AU10: =SUM(AV10:AX10) -> 527413.17 | AV10: =+[1]Аппарат!AV10 -> 527413.17 | AW10: =+[1]Аппарат!AW10 -> 0 | AX10: =+[1]Аппарат!AX10 -> 0 | AY10: =+AQ10-AU10 -> 24957.732 | AZ10: =+AU10/AQ10*100-100 -> -4.5182923 | BA10: =SUM(BB10:BD10) -> 464339.09 | BB10: =+[1]Аппарат!BB10 -> 464339.09 | BC10: =+[1]Аппарат!BC10 -> 0 | BD10: =+[1]Аппарат!BD10 -> 0 | BE10: =SUM(BF10:BH10) -> 749829.93 | BF10: =+[1]Аппарат!BF10 -> 749829.93 | BG10: =+[1]Аппарат!BG10 -> 0 | BH10: =+[1]Аппарат!BH10 -> 0 | BI10: =+BA10-BE10 -> -285490.84 | BJ10: =+BE10/BA10*100-100 -> 61.483265 | BK10: =SUM(BL10:BN10) -> 438224.37 | BL10: =+[1]Аппарат!BL10 -> 438224.37 | BM10: =+[1]Аппарат!BM10 -> 0 | BN10: =+[1]Аппарат!BN10 -> 0 | BO10: =SUM(BP10:BR10) -> 455594.58 | BP10: =+[1]Аппарат!BP10 -> 455594.58 | BQ10: =+[1]Аппарат!BQ10 -> 0 | BR10: =+[1]Аппарат!BR10 -> 0 | BS10: =+BK10-BO10 -> -17370.201 | BT10: =+BO10/BK10*100-100 -> 3.9637687 | BU10: =SUM(BV10:BX10) -> 1454934.4 | BV10: =+AR10+BB10+BL10 -> 1454934.4 | BW10: =+AS10+BC10+BM10 -> 0 | BX10: =+AT10+BD10+BN10 -> 0 | BY10: =SUM(BZ10:CB10) -> 1732837.7 | BZ10: =+AV10+BF10+BP10 -> 1732837.7 | CA10: =+AW10+BG10+BQ10 -> 0 | CB10: =+AX10+BH10+BR10 -> 0 | CC10: =+BU10-BY10 -> -277903.3 | CD10: =+BY10/BU10*100-100 -> 19.100745 | CE10: =SUM(CF10:CH10) -> 3315674.6 | CF10: =+AH10+BV10 -> 3315674.6 | CG10: =+AI10+BW10 -> 0 | CH10: =+AJ10+BX10 -> 0 | CI10: =SUM(CJ10:CL10) -> 3272288.5 | CJ10: =+AL10+BZ10 -> 3272288.5 | CK10: =+AM10+CA10 -> 0 | CL10: =+AN10+CB10 -> 0 | CM10: =+CE10-CI10 -> 43386.076 | CN10: =+CI10/CE10*100-100 -> -1.3085143 | CO10: =SUM(CP10:CR10) -> 459277.17 | CP10: =+[1]Аппарат!CP10 -> 459277.17 | CQ10: =+[1]Аппарат!CQ10 -> 0 | CR10: =+[1]Аппарат!CR10 -> 0 | CS10: =SUM(CT10:CV10) -> 468163.96 | CT10: =+[1]Аппарат!CT10 -> 468163.96 | CU10: =+[1]Аппарат!CU10 -> 0 | CV10: =+[1]Аппарат!CV10 -> 0 | CW10: =+CO10-CS10 -> -8886.7874 | CX10: =+CS10/CO10*100-100 -> 1.9349508 | CY10: =SUM(CZ10:DB10) -> 473212.67 | CZ10: =+[1]Аппарат!CZ10 -> 473212.67 | DA10: =+[1]Аппарат!DA10 -> 0 | DB10: =+[1]Аппарат!DB10 -> 0 | DC10: =SUM(DD10:DF10) -> 466106.39 | DD10: =+[1]Аппарат!DD10 -> 466106.39 | DE10: =+[1]Аппарат!DE10 -> 0 | DF10: =+[1]Аппарат!DF10 -> 0 | DG10: =+CY10-DC10 -> 7106.2813 | DH10: =+DC10/CY10*100-100 -> -1.5017098 | DI10: =SUM(DJ10:DL10) -> 494968.87 | DJ10: =+[1]Аппарат!DJ10 -> 494968.87 | DK10: =+[1]Аппарат!DK10 -> 0 | DL10: =+[1]Аппарат!DL10 -> 0 | DM10: =SUM(DN10:DP10) -> 512838.91 | DN10: =+[1]Аппарат!DN10 -> 512838.91 | DO10: =+[1]Аппарат!DO10 -> 0 | DP10: =+[1]Аппарат!DP10 -> 0 | DQ10: =+DI10-DM10 -> -17870.039 | DR10: =+DM10/DI10*100-100 -> 3.610336 | DS10: =SUM(DT10:DV10) -> 1427458.7 | DT10: =+CP10+CZ10+DJ10 -> 1427458.7 | DU10: =+CQ10+DA10+DK10 -> 0 | DV10: =+CR10+DB10+DL10 -> 0 | DW10: =SUM(DX10:DZ10) -> 1447109.3 | DX10: =+CT10+DD10+DN10 -> 1447109.3 | DY10: =+CU10+DE10+DO10 -> 0 | DZ10: =+CV10+DF10+DP10 -> 0 | EA10: =+DS10-DW10 -> -19650.546 | EB10: =+DW10/DS10*100-100 -> 1.3766104 | EC10: =SUM(ED10:EF10) -> 4743133.3 | ED10: =+CF10+DT10 -> 4743133.3 | EE10: =+CG10+DU10 -> 0 | EF10: =+CH10+DV10 -> 0 | EG10: =SUM(EH10:EJ10) -> 4719397.8 | EH10: =+CJ10+DX10 -> 4719397.8 | EI10: =+CK10+DY10 -> 0 | EJ10: =+CL10+DZ10 -> 0 | EK10: =+EC10-EG10 -> 23735.531 | EL10: =+EG10/EC10*100-100 -> -0.5004188 | EM10: =SUM(EN10:EP10) -> 591603.34 | EN10: =+[1]Аппарат!EN10 -> 591603.34 | EO10: =+[1]Аппарат!EO10 -> 0 | EP10: =+[1]Аппарат!EP10 -> 0 | EQ10: =SUM(ER10:ET10) -> 576616.14 | ER10: =+[1]Аппарат!ER10 -> 576616.14 | ES10: =+[1]Аппарат!ES10 -> 0 | ET10: =+[1]Аппарат!ET10 -> 0 | EU10: =+EM10-EQ10 -> 14987.2 | EV10: =+EQ10/EM10*100-100 -> -2.5333191 | EW10: =SUM(EX10:EZ10) -> 611931.56 | EX10: =+[1]Аппарат!EX10 -> 611931.56 | EY10: =+[1]Аппарат!EY10 -> 0 | EZ10: =+[1]Аппарат!EZ10 -> 0 | FA10: =SUM(FB10:FD10) -> 623012.85 | FB10: =+[1]Аппарат!FB10 -> 623012.85 | FC10: =+[1]Аппарат!FC10 -> 0 | FD10: =+[1]Аппарат!FD10 -> 0 | FE10: =+EW10-FA10 -> -11081.294 | FF10: =+FA10/EW10*100-100 -> 1.8108715 | FG10: =SUM(FH10:FJ10) -> 682783.95 | FH10: =+[1]Аппарат!FH10 -> 682783.95 | FI10: =+[1]Аппарат!FI10 -> 0 | FJ10: =+[1]Аппарат!FJ10 -> 0 | FK10: =SUM(FL10:FN10) -> 670797.08 | FL10: =+[1]Аппарат!FL10 -> 670797.08 | FM10: =+[1]Аппарат!FM10 -> 0 | FN10: =+[1]Аппарат!FN10 -> 0 | FO10: =+FG10-FK10 -> 11986.868 | FP10: =+FK10/FG10*100-100 -> -1.7555873 | FQ10: =SUM(FR10:FT10) -> 1886318.8 | FR10: =+EN10+EX10+FH10 -> 1886318.8 | FS10: =+EO10+EY10+FI10 -> 0 | FT10: =+EP10+EZ10+FJ10 -> 0 | FU10: =SUM(FV10:FX10) -> 1870426.1 | FV10: =+ER10+FB10+FL10 -> 1870426.1 | FW10: =+ES10+FC10+FM10 -> 0 | FX10: =+ET10+FD10+FN10 -> 0 | FY10: =+FQ10-FU10 -> 15892.774 | FZ10: =+FU10/FQ10*100-100 -> -0.84252852 | GA10: =SUM(GB10:GD10) -> 3313777.6 | GB10: =+DT10+FR10 -> 3313777.6 | GC10: =+DU10+FS10 -> 0 | GD10: =+DV10+FT10 -> 0 | GE10: =SUM(GF10:GH10) -> 3317535.3 | GF10: =+DX10+FV10 -> 3317535.3 | GG10: =+DY10+FW10 -> 0 | GH10: =+DZ10+FX10 -> 0 | GI10: =+GA10-GE10 -> -3757.7713 | GJ10: =+GE10/GA10*100-100 -> 0.11339842 | GK10: =SUM(GL10:GN10) -> 6629452.1 | GL10: =+ED10+FR10 -> 6629452.1 | GM10: =+EE10+FS10 -> 0 | GN10: =+EF10+FT10 -> 0 | GO10: =SUM(GP10:GR10) -> 6589823.8 | GP10: =+EH10+FV10 -> 6589823.8 | GQ10: =+EI10+FW10 -> 0 | GR10: =+EJ10+FX10 -> 0 | GS10: =+GK10-GO10 -> 39628.305 | GT10: =+GO10/GK10*100-100 -> -0.59776138 | GU10: =+GP10+GP17+GP18 -> 6665959.2 | GV10: =+GK10 -> 6629452.1 | GX10: =+GW10-CI10 -> -3272288.5
B11: По двухставочному тарифу | C11: =SUM(D11:F11) -> 0 | D11: =+[1]Аппарат!D11 -> 0 | E11: =+[1]Аппарат!E11 -> 0 | F11: =+[1]Аппарат!F11 -> 0 | G11: =SUM(H11:J11) -> 0 | H11: =+[1]Аппарат!H11 -> 0 | I11: =+[1]Аппарат!I11 -> 0 | J11: =+[1]Аппарат!J11 -> 0 | K11: =+C11-G11 -> 0 | L11: =+G11/C11*100-100 -> #DIV/0! | M11: =SUM(N11:P11) -> 0 | N11: =+[1]Аппарат!N11 -> 0 | O11: =+[1]Аппарат!O11 -> 0 | P11: =+[1]Аппарат!P11 -> 0 | Q11: =SUM(R11:T11) -> 0 | R11: =+[1]Аппарат!R11 -> 0 | S11: =+[1]Аппарат!S11 -> 0 | T11: =+[1]Аппарат!T11 -> 0 | U11: =+M11-Q11 -> 0 | V11: =+Q11/M11*100-100 -> #DIV/0! | W11: =SUM(X11:Z11) -> 0 | X11: =+[1]Аппарат!X11 -> 0 | Y11: =+[1]Аппарат!Y11 -> 0 | Z11: =+[1]Аппарат!Z11 -> 0 | AA11: =SUM(AB11:AD11) -> 0 | AB11: =+[1]Аппарат!AB11 -> 0 | AC11: =+[1]Аппарат!AC11 -> 0 | AD11: =+[1]Аппарат!AD11 -> 0 | AE11: =+W11-AA11 -> 0 | AF11: =+AA11/W11*100-100 -> #DIV/0! | AG11: =SUM(AH11:AJ11) -> 0 | AH11: =+D11+N11+X11 -> 0 | AI11: =+E11+O11+Y11 -> 0 | AJ11: =+F11+P11+Z11 -> 0 | AK11: =SUM(AL11:AN11) -> 0 | AL11: =+H11+R11+AB11 -> 0 | AM11: =+I11+S11+AC11 -> 0 | AN11: =+J11+T11+AD11 -> 0 | AO11: =+AG11-AK11 -> 0 | AP11: =+AK11/AG11*100-100 -> #DIV/0! | AQ11: =SUM(AR11:AT11) -> 0 | AR11: =+[1]Аппарат!AR11 -> 0 | AS11: =+[1]Аппарат!AS11 -> 0 | AT11: =+[1]Аппарат!AT11 -> 0 | AU11: =SUM(AV11:AX11) -> 0 | AV11: =+[1]Аппарат!AV11 -> 0 | AW11: =+[1]Аппарат!AW11 -> 0 | AX11: =+[1]Аппарат!AX11 -> 0 | AY11: =+AQ11-AU11 -> 0 | AZ11: =+AU11/AQ11*100-100 -> #DIV/0! | BA11: =SUM(BB11:BD11) -> 0 | BB11: =+[1]Аппарат!BB11 -> 0 | BC11: =+[1]Аппарат!BC11 -> 0 | BD11: =+[1]Аппарат!BD11 -> 0 | BE11: =SUM(BF11:BH11) -> 0 | BF11: =+[1]Аппарат!BF11 -> 0 | BG11: =+[1]Аппарат!BG11 -> 0 | BH11: =+[1]Аппарат!BH11 -> 0 | BI11: =+BA11-BE11 -> 0 | BJ11: =+BE11/BA11*100-100 -> #DIV/0! | BK11: =SUM(BL11:BN11) -> 0 | BL11: =+[1]Аппарат!BL11 -> 0 | BM11: =+[1]Аппарат!BM11 -> 0 | BN11: =+[1]Аппарат!BN11 -> 0 | BO11: =SUM(BP11:BR11) -> 0 | BP11: =+[1]Аппарат!BP11 -> 0 | BQ11: =+[1]Аппарат!BQ11 -> 0 | BR11: =+[1]Аппарат!BR11 -> 0 | BS11: =+BK11-BO11 -> 0 | BT11: =+BO11/BK11*100-100 -> #DIV/0! | BU11: =SUM(BV11:BX11) -> 0 | BV11: =+AR11+BB11+BL11 -> 0 | BW11: =+AS11+BC11+BM11 -> 0 | BX11: =+AT11+BD11+BN11 -> 0 | BY11: =SUM(BZ11:CB11) -> 0 | BZ11: =+AV11+BF11+BP11 -> 0 | CA11: =+AW11+BG11+BQ11 -> 0 | CB11: =+AX11+BH11+BR11 -> 0 | CC11: =+BU11-BY11 -> 0 | CD11: =+BY11/BU11*100-100 -> #DIV/0! | CE11: =SUM(CF11:CH11) -> 0 | CF11: =+AH11+BV11 -> 0 | CG11: =+AI11+BW11 -> 0 | CH11: =+AJ11+BX11 -> 0 | CI11: =SUM(CJ11:CL11) -> 0 | CJ11: =+AL11+BZ11 -> 0 | CK11: =+AM11+CA11 -> 0 | CL11: =+AN11+CB11 -> 0 | CM11: =+CE11-CI11 -> 0 | CN11: =+CI11/CE11*100-100 -> #DIV/0! | CO11: =SUM(CP11:CR11) -> 0 | CP11: =+[1]Аппарат!CP11 -> 0 | CQ11: =+[1]Аппарат!CQ11 -> 0 | CR11: =+[1]Аппарат!CR11 -> 0 | CS11: =SUM(CT11:CV11) -> 0 | CT11: =+[1]Аппарат!CT11 -> 0 | CU11: =+[1]Аппарат!CU11 -> 0 | CV11: =+[1]Аппарат!CV11 -> 0 | CW11: =+CO11-CS11 -> 0 | CX11: =+CS11/CO11*100-100 -> #DIV/0! | CY11: =SUM(CZ11:DB11) -> 0 | CZ11: =+[1]Аппарат!CZ11 -> 0 | DA11: =+[1]Аппарат!DA11 -> 0 | DB11: =+[1]Аппарат!DB11 -> 0 | DC11: =SUM(DD11:DF11) -> 0 | DD11: =+[1]Аппарат!DD11 -> 0 | DE11: =+[1]Аппарат!DE11 -> 0 | DF11: =+[1]Аппарат!DF11 -> 0 | DG11: =+CY11-DC11 -> 0 | DH11: =+DC11/CY11*100-100 -> #DIV/0! | DI11: =SUM(DJ11:DL11) -> 0 | DJ11: =+[1]Аппарат!DJ11 -> 0 | DK11: =+[1]Аппарат!DK11 -> 0 | DL11: =+[1]Аппарат!DL11 -> 0 | DM11: =SUM(DN11:DP11) -> 0 | DN11: =+[1]Аппарат!DN11 -> 0 | DO11: =+[1]Аппарат!DO11 -> 0 | DP11: =+[1]Аппарат!DP11 -> 0 | DQ11: =+DI11-DM11 -> 0 | DR11: =+DM11/DI11*100-100 -> #DIV/0! | DS11: =SUM(DT11:DV11) -> 0 | DT11: =+CP11+CZ11+DJ11 -> 0 | DU11: =+CQ11+DA11+DK11 -> 0 | DV11: =+CR11+DB11+DL11 -> 0 | DW11: =SUM(DX11:DZ11) -> 0 | DX11: =+CT11+DD11+DN11 -> 0 | DY11: =+CU11+DE11+DO11 -> 0 | DZ11: =+CV11+DF11+DP11 -> 0 | EA11: =+DS11-DW11 -> 0 | EB11: =+DW11/DS11*100-100 -> #DIV/0! | EC11: =SUM(ED11:EF11) -> 0 | ED11: =+CF11+DT11 -> 0 | EE11: =+CG11+DU11 -> 0 | EF11: =+CH11+DV11 -> 0 | EG11: =SUM(EH11:EJ11) -> 0 | EH11: =+CJ11+DX11 -> 0 | EI11: =+CK11+DY11 -> 0 | EJ11: =+CL11+DZ11 -> 0 | EK11: =+EC11-EG11 -> 0 | EL11: =+EG11/EC11*100-100 -> #DIV/0! | EM11: =SUM(EN11:EP11) -> 0 | EN11: =+[1]Аппарат!EN11 -> 0 | EO11: =+[1]Аппарат!EO11 -> 0 | EP11: =+[1]Аппарат!EP11 -> 0 | EQ11: =SUM(ER11:ET11) -> 0 | ER11: =+[1]Аппарат!ER11 -> 0 | ES11: =+[1]Аппарат!ES11 -> 0 | ET11: =+[1]Аппарат!ET11 -> 0 | EU11: =+EM11-EQ11 -> 0 | EV11: =+EQ11/EM11*100-100 -> #DIV/0! | EW11: =SUM(EX11:EZ11) -> 0 | EX11: =+[1]Аппарат!EX11 -> 0 | EY11: =+[1]Аппарат!EY11 -> 0 | EZ11: =+[1]Аппарат!EZ11 -> 0 | FA11: =SUM(FB11:FD11) -> 0 | FB11: =+[1]Аппарат!FB11 -> 0 | FC11: =+[1]Аппарат!FC11 -> 0 | FD11: =+[1]Аппарат!FD11 -> 0 | FE11: =+EW11-FA11 -> 0 | FF11: =+FA11/EW11*100-100 -> #DIV/0! | FG11: =SUM(FH11:FJ11) -> 0 | FH11: =+[1]Аппарат!FH11 -> 0 | FI11: =+[1]Аппарат!FI11 -> 0 | FJ11: =+[1]Аппарат!FJ11 -> 0 | FK11: =SUM(FL11:FN11) -> 0 | FL11: =+[1]Аппарат!FL11 -> 0 | FM11: =+[1]Аппарат!FM11 -> 0 | FN11: =+[1]Аппарат!FN11 -> 0 | FO11: =+FG11-FK11 -> 0 | FP11: =+FK11/FG11*100-100 -> #DIV/0! | FQ11: =SUM(FR11:FT11) -> 0 | FR11: =+EN11+EX11+FH11 -> 0 | FS11: =+EO11+EY11+FI11 -> 0 | FT11: =+EP11+EZ11+FJ11 -> 0 | FU11: =SUM(FV11:FX11) -> 0 | FV11: =+ER11+FB11+FL11 -> 0 | FW11: =+ES11+FC11+FM11 -> 0 | FX11: =+ET11+FD11+FN11 -> 0 | FY11: =+FQ11-FU11 -> 0 | FZ11: =+FU11/FQ11*100-100 -> #DIV/0! | GA11: =SUM(GB11:GD11) -> 0 | GB11: =+DT11+FR11 -> 0 | GC11: =+DU11+FS11 -> 0 | GD11: =+DV11+FT11 -> 0 | GE11: =SUM(GF11:GH11) -> 0 | GF11: =+DX11+FV11 -> 0 | GG11: =+DY11+FW11 -> 0 | GH11: =+DZ11+FX11 -> 0 | GI11: =+GA11-GE11 -> 0 | GJ11: =+GE11/GA11*100-100 -> #DIV/0! | GK11: =SUM(GL11:GN11) -> 0 | GL11: =+ED11+FR11 -> 0 | GM11: =+EE11+FS11 -> 0 | GN11: =+EF11+FT11 -> 0 | GO11: =SUM(GP11:GR11) -> 0 | GP11: =+EH11+FV11 -> 0 | GQ11: =+EI11+FW11 -> 0 | GR11: =+EJ11+FX11 -> 0 | GS11: =+GK11-GO11 -> 0 | GT11: =+GO11/GK11*100-100 -> #DIV/0! | GV11: =+GK11 -> 0 | GX11: =+GW11-CI11 -> 0
B12: Выручка от присоединений к электрическим сетям | C12: =SUM(D12:F12) -> 27556.611 | D12: =+[1]Аппарат!D12 -> 0 | E12: =+[1]Аппарат!E12 -> 27556.611 | F12: =+[1]Аппарат!F12 -> 0 | G12: =SUM(H12:J12) -> 11549.82 | H12: =+[1]Аппарат!H12 -> 0 | I12: =+[1]Аппарат!I12 -> 11549.82 | J12: =+[1]Аппарат!J12 -> 0 | K12: =+C12-G12 -> 16006.791 | L12: =+G12/C12*100-100 -> -58.086936 | M12: =SUM(N12:P12) -> 48224.069 | N12: =+[1]Аппарат!N12 -> 0 | O12: =+[1]Аппарат!O12 -> 48224.069 | P12: =+[1]Аппарат!P12 -> 0 | Q12: =SUM(R12:T12) -> 9979.485 | R12: =+[1]Аппарат!R12 -> 0 | S12: =+[1]Аппарат!S12 -> 9979.485 | T12: =+[1]Аппарат!T12 -> 0 | U12: =+M12-Q12 -> 38244.584 | V12: =+Q12/M12*100-100 -> -79.306008 | W12: =SUM(X12:Z12) -> 62002.375 | X12: =+[1]Аппарат!X12 -> 0 | Y12: =+[1]Аппарат!Y12 -> 62002.375 | Z12: =+[1]Аппарат!Z12 -> 0 | AA12: =SUM(AB12:AD12) -> 20539.776 | AB12: =+[1]Аппарат!AB12 -> 0 | AC12: =+[1]Аппарат!AC12 -> 20539.776 | AD12: =+[1]Аппарат!AD12 -> 0 | AE12: =+W12-AA12 -> 41462.599 | AF12: =+AA12/W12*100-100 -> -66.872598 | AG12: =SUM(AH12:AJ12) -> 137783.06 | AH12: =+D12+N12+X12 -> 0 | AI12: =+E12+O12+Y12 -> 137783.06 | AJ12: =+F12+P12+Z12 -> 0 | AK12: =SUM(AL12:AN12) -> 42069.081 | AL12: =+H12+R12+AB12 -> 0 | AM12: =+I12+S12+AC12 -> 42069.081 | AN12: =+J12+T12+AD12 -> 0 | AO12: =+AG12-AK12 -> 95713.974 | AP12: =+AK12/AG12*100-100 -> -69.467159 | AQ12: =SUM(AR12:AT12) -> 12703.469 | AR12: =+[1]Аппарат!AR12 -> 0 | AS12: =+[1]Аппарат!AS12 -> 12703.469 | AT12: =+[1]Аппарат!AT12 -> 0 | AU12: =SUM(AV12:AX12) -> 11724.427 | AV12: =+[1]Аппарат!AV12 -> 0 | AW12: =+[1]Аппарат!AW12 -> 11724.427 | AX12: =+[1]Аппарат!AX12 -> 0 | AY12: =+AQ12-AU12 -> 979.04242 | AZ12: =+AU12/AQ12*100-100 -> -7.70689 | BA12: =SUM(BB12:BD12) -> 22231.072 | BB12: =+[1]Аппарат!BB12 -> 0 | BC12: =+[1]Аппарат!BC12 -> 22231.072 | BD12: =+[1]Аппарат!BD12 -> 0 | BE12: =SUM(BF12:BH12) -> 23161.773 | BF12: =+[1]Аппарат!BF12 -> 0 | BG12: =+[1]Аппарат!BG12 -> 23161.773 | BH12: =+[1]Аппарат!BH12 -> 0 | BI12: =+BA12-BE12 -> -930.7014 | BJ12: =+BE12/BA12*100-100 -> 4.1864891 | BK12: =SUM(BL12:BN12) -> 28582.806 | BL12: =+[1]Аппарат!BL12 -> 0 | BM12: =+[1]Аппарат!BM12 -> 28582.806 | BN12: =+[1]Аппарат!BN12 -> 0 | BO12: =SUM(BP12:BR12) -> 53357.26 | BP12: =+[1]Аппарат!BP12 -> 0 | BQ12: =+[1]Аппарат!BQ12 -> 53357.26 | BR12: =+[1]Аппарат!BR12 -> 0 | BS12: =+BK12-BO12 -> -24774.454 | BT12: =+BO12/BK12*100-100 -> 86.676071 | BU12: =SUM(BV12:BX12) -> 63517.347 | BV12: =+AR12+BB12+BL12 -> 0 | BW12: =+AS12+BC12+BM12 -> 63517.347 | BX12: =+AT12+BD12+BN12 -> 0 | BY12: =SUM(BZ12:CB12) -> 88243.46 | BZ12: =+AV12+BF12+BP12 -> 0 | CA12: =+AW12+BG12+BQ12 -> 88243.46 | CB12: =+AX12+BH12+BR12 -> 0 | CC12: =+BU12-BY12 -> -24726.113 | CD12: =+BY12/BU12*100-100 -> 38.928125 | CE12: =SUM(CF12:CH12) -> 201300.4 | CF12: =+AH12+BV12 -> 0 | CG12: =+AI12+BW12 -> 201300.4 | CH12: =+AJ12+BX12 -> 0 | CI12: =SUM(CJ12:CL12) -> 130312.54 | CJ12: =+AL12+BZ12 -> 0 | CK12: =+AM12+CA12 -> 130312.54 | CL12: =+AN12+CB12 -> 0 | CM12: =+CE12-CI12 -> 70987.861 | CN12: =+CI12/CE12*100-100 -> -35.26464 | CO12: =SUM(CP12:CR12) -> 17347.833 | CP12: =+[1]Аппарат!CP12 -> 0 | CQ12: =+[1]Аппарат!CQ12 -> 17347.833 | CR12: =+[1]Аппарат!CR12 -> 0 | CS12: =SUM(CT12:CV12) -> 9518.302 | CT12: =+[1]Аппарат!CT12 -> 0 | CU12: =+[1]Аппарат!CU12 -> 9518.302 | CV12: =+[1]Аппарат!CV12 -> 0 | CW12: =+CO12-CS12 -> 7829.5307 | CX12: =+CS12/CO12*100-100 -> -45.132616 | CY12: =SUM(CZ12:DB12) -> 30358.707 | CZ12: =+[1]Аппарат!CZ12 -> 0 | DA12: =+[1]Аппарат!DA12 -> 30358.707 | DB12: =+[1]Аппарат!DB12 -> 0 | DC12: =SUM(DD12:DF12) -> 22344.259 | DD12: =+[1]Аппарат!DD12 -> 0 | DE12: =+[1]Аппарат!DE12 -> 22344.259 | DF12: =+[1]Аппарат!DF12 -> 0 | DG12: =+CY12-DC12 -> 8014.4482 | DH12: =+DC12/CY12*100-100 -> -26.399175 | DI12: =SUM(DJ12:DL12) -> 39032.624 | DJ12: =+[1]Аппарат!DJ12 -> 0 | DK12: =+[1]Аппарат!DK12 -> 39032.624 | DL12: =+[1]Аппарат!DL12 -> 0 | DM12: =SUM(DN12:DP12) -> 51330.073 | DN12: =+[1]Аппарат!DN12 -> 0 | DO12: =+[1]Аппарат!DO12 -> 51330.073 | DP12: =+[1]Аппарат!DP12 -> 0 | DQ12: =+DI12-DM12 -> -12297.449 | DR12: =+DM12/DI12*100-100 -> 31.505567 | DS12: =SUM(DT12:DV12) -> 86739.163 | DT12: =+CP12+CZ12+DJ12 -> 0 | DU12: =+CQ12+DA12+DK12 -> 86739.163 | DV12: =+CR12+DB12+DL12 -> 0 | DW12: =SUM(DX12:DZ12) -> 83192.634 | DX12: =+CT12+DD12+DN12 -> 0 | DY12: =+CU12+DE12+DO12 -> 83192.634 | DZ12: =+CV12+DF12+DP12 -> 0 | EA12: =+DS12-DW12 -> 3546.5295 | EB12: =+DW12/DS12*100-100 -> -4.0887292 | EC12: =SUM(ED12:EF12) -> 288039.57 | ED12: =+CF12+DT12 -> 0 | EE12: =+CG12+DU12 -> 288039.57 | EF12: =+CH12+DV12 -> 0 | EG12: =SUM(EH12:EJ12) -> 213505.18 | EH12: =+CJ12+DX12 -> 0 | EI12: =+CK12+DY12 -> 213505.18 | EJ12: =+CL12+DZ12 -> 0 | EK12: =+EC12-EG12 -> 74534.391 | EL12: =+EG12/EC12*100-100 -> -25.876442 | EM12: =SUM(EN12:EP12) -> 52392.087 | EN12: =+[1]Аппарат!EN12 -> 0 | EO12: =+[1]Аппарат!EO12 -> 52392.087 | EP12: =+[1]Аппарат!EP12 -> 0 | EQ12: =SUM(ER12:ET12) -> 80347.304 | ER12: =+[1]Аппарат!ER12 -> 0 | ES12: =+[1]Аппарат!ES12 -> 80347.304 | ET12: =+[1]Аппарат!ET12 -> 0 | EU12: =+EM12-EQ12 -> -27955.217 | EV12: =+EQ12/EM12*100-100 -> 53.357709 | EW12: =SUM(EX12:EZ12) -> 91686.152 | EX12: =+[1]Аппарат!EX12 -> 0 | EY12: =+[1]Аппарат!EY12 -> 91686.152 | EZ12: =+[1]Аппарат!EZ12 -> 0 | FA12: =SUM(FB12:FD12) -> 45930.403 | FB12: =+[1]Аппарат!FB12 -> 0 | FC12: =+[1]Аппарат!FC12 -> 45930.403 | FD12: =+[1]Аппарат!FD12 -> 0 | FE12: =+EW12-FA12 -> 45755.749 | FF12: =+FA12/EW12*100-100 -> -49.904754 | FG12: =SUM(FH12:FJ12) -> 117882.2 | FH12: =+[1]Аппарат!FH12 -> 0 | FI12: =+[1]Аппарат!FI12 -> 117882.2 | FJ12: =+[1]Аппарат!FJ12 -> 0 | FK12: =SUM(FL12:FN12) -> 149101.07 | FL12: =+[1]Аппарат!FL12 -> 0 | FM12: =+[1]Аппарат!FM12 -> 149101.07 | FN12: =+[1]Аппарат!FN12 -> 0 | FO12: =+FG12-FK12 -> -31218.877 | FP12: =+FK12/FG12*100-100 -> 26.483114 | FQ12: =SUM(FR12:FT12) -> 261960.43 | FR12: =+EN12+EX12+FH12 -> 0 | FS12: =+EO12+EY12+FI12 -> 261960.43 | FT12: =+EP12+EZ12+FJ12 -> 0 | FU12: =SUM(FV12:FX12) -> 275378.78 | FV12: =+ER12+FB12+FL12 -> 0 | FW12: =+ES12+FC12+FM12 -> 275378.78 | FX12: =+ET12+FD12+FN12 -> 0 | FY12: =+FQ12-FU12 -> -13418.345 | FZ12: =+FU12/FQ12*100-100 -> 5.1222793 | GA12: =SUM(GB12:GD12) -> 348699.6 | GB12: =+DT12+FR12 -> 0 | GC12: =+DU12+FS12 -> 348699.6 | GD12: =+DV12+FT12 -> 0 | GE12: =SUM(GF12:GH12) -> 358571.41 | GF12: =+DX12+FV12 -> 0 | GG12: =+DY12+FW12 -> 358571.41 | GH12: =+DZ12+FX12 -> 0 | GI12: =+GA12-GE12 -> -9871.8156 | GJ12: =+GE12/GA12*100-100 -> 2.8310373 | GK12: =SUM(GL12:GN12) -> 550000 | GL12: =+ED12+FR12 -> 0 | GM12: =+EE12+FS12 -> 550000 | GN12: =+EF12+FT12 -> 0 | GO12: =SUM(GP12:GR12) -> 488883.95 | GP12: =+EH12+FV12 -> 0 | GQ12: =+EI12+FW12 -> 488883.95 | GR12: =+EJ12+FX12 -> 0 | GS12: =+GK12-GO12 -> 61116.046 | GT12: =+GO12/GK12*100-100 -> -11.112008 | GU12: =+GQ12+GQ16+GQ18 -> 492796.99 | GV12: =+GK12 -> 550000 | GX12: =+GW12-CI12 -> -130312.54
B13: Доход от сдачи имущества в аренду | C13: =SUM(D13:F13) -> 1302.6899 | D13: =+[1]Аппарат!D13 -> 0 | E13: =+[1]Аппарат!E13 -> 0 | F13: =+[1]Аппарат!F13 -> 1302.6899 | G13: =SUM(H13:J13) -> 1791.694 | H13: =+[1]Аппарат!H13 -> 0 | I13: =+[1]Аппарат!I13 -> 0 | J13: =+[1]Аппарат!J13 -> 1791.694 | K13: =+C13-G13 -> -489.00407 | L13: =+G13/C13*100-100 -> 37.538025 | M13: =SUM(N13:P13) -> 1302.6899 | N13: =+[1]Аппарат!N13 -> 0 | O13: =+[1]Аппарат!O13 -> 0 | P13: =+[1]Аппарат!P13 -> 1302.6899 | Q13: =SUM(R13:T13) -> 1744.475 | R13: =+[1]Аппарат!R13 -> 0 | S13: =+[1]Аппарат!S13 -> 0 | T13: =+[1]Аппарат!T13 -> 1744.475 | U13: =+M13-Q13 -> -441.78507 | V13: =+Q13/M13*100-100 -> 33.913294 | W13: =SUM(X13:Z13) -> 1302.6899 | X13: =+[1]Аппарат!X13 -> 0 | Y13: =+[1]Аппарат!Y13 -> 0 | Z13: =+[1]Аппарат!Z13 -> 1302.6899 | AA13: =SUM(AB13:AD13) -> 1744.475 | AB13: =+[1]Аппарат!AB13 -> 0 | AC13: =+[1]Аппарат!AC13 -> 0 | AD13: =+[1]Аппарат!AD13 -> 1744.475 | AE13: =+W13-AA13 -> -441.78507 | AF13: =+AA13/W13*100-100 -> 33.913294 | AG13: =SUM(AH13:AJ13) -> 3908.0698 | AH13: =+D13+N13+X13 -> 0 | AI13: =+E13+O13+Y13 -> 0 | AJ13: =+F13+P13+Z13 -> 3908.0698 | AK13: =SUM(AL13:AN13) -> 5280.644 | AL13: =+H13+R13+AB13 -> 0 | AM13: =+I13+S13+AC13 -> 0 | AN13: =+J13+T13+AD13 -> 5280.644 | AO13: =+AG13-AK13 -> -1372.5742 | AP13: =+AK13/AG13*100-100 -> 35.121538 | AQ13: =SUM(AR13:AT13) -> 1302.6899 | AR13: =+[1]Аппарат!AR13 -> 0 | AS13: =+[1]Аппарат!AS13 -> 0 | AT13: =+[1]Аппарат!AT13 -> 1302.6899 | AU13: =SUM(AV13:AX13) -> 1739.674 | AV13: =+[1]Аппарат!AV13 -> 0 | AW13: =+[1]Аппарат!AW13 -> 0 | AX13: =+[1]Аппарат!AX13 -> 1739.674 | AY13: =+AQ13-AU13 -> -436.98411 | AZ13: =+AU13/AQ13*100-100 -> 33.544752 | BA13: =SUM(BB13:BD13) -> 1302.6899 | BB13: =+[1]Аппарат!BB13 -> 0 | BC13: =+[1]Аппарат!BC13 -> 0 | BD13: =+[1]Аппарат!BD13 -> 1302.6899 | BE13: =SUM(BF13:BH13) -> 1301.685 | BF13: =+[1]Аппарат!BF13 -> 0 | BG13: =+[1]Аппарат!BG13 -> 0 | BH13: =+[1]Аппарат!BH13 -> 1301.685 | BI13: =+BA13-BE13 -> 1.0049322 | BJ13: =+BE13/BA13*100-100 -> -0.077142855 | BK13: =SUM(BL13:BN13) -> 1302.6899 | BL13: =+[1]Аппарат!BL13 -> 0 | BM13: =+[1]Аппарат!BM13 -> 0 | BN13: =+[1]Аппарат!BN13 -> 1302.6899 | BO13: =SUM(BP13:BR13) -> 1297.373 | BP13: =+[1]Аппарат!BP13 -> 0 | BQ13: =+[1]Аппарат!BQ13 -> 0 | BR13: =+[1]Аппарат!BR13 -> 1297.373 | BS13: =+BK13-BO13 -> 5.3169322 | BT13: =+BO13/BK13*100-100 -> -0.40815025 | BU13: =SUM(BV13:BX13) -> 3908.0698 | BV13: =+AR13+BB13+BL13 -> 0 | BW13: =+AS13+BC13+BM13 -> 0 | BX13: =+AT13+BD13+BN13 -> 3908.0698 | BY13: =SUM(BZ13:CB13) -> 4338.732 | BZ13: =+AV13+BF13+BP13 -> 0 | CA13: =+AW13+BG13+BQ13 -> 0 | CB13: =+AX13+BH13+BR13 -> 4338.732 | CC13: =+BU13-BY13 -> -430.66224 | CD13: =+BY13/BU13*100-100 -> 11.01982 | CE13: =SUM(CF13:CH13) -> 7816.1396 | CF13: =+AH13+BV13 -> 0 | CG13: =+AI13+BW13 -> 0 | CH13: =+AJ13+BX13 -> 7816.1396 | CI13: =SUM(CJ13:CL13) -> 9619.376 | CJ13: =+AL13+BZ13 -> 0 | CK13: =+AM13+CA13 -> 0 | CL13: =+AN13+CB13 -> 9619.376 | CM13: =+CE13-CI13 -> -1803.2364 | CN13: =+CI13/CE13*100-100 -> 23.070679 | CO13: =SUM(CP13:CR13) -> 1302.6899 | CP13: =+[1]Аппарат!CP13 -> 0 | CQ13: =+[1]Аппарат!CQ13 -> 0 | CR13: =+[1]Аппарат!CR13 -> 1302.6899 | CS13: =SUM(CT13:CV13) -> 1305.772 | CT13: =+[1]Аппарат!CT13 -> 0 | CU13: =+[1]Аппарат!CU13 -> 0 | CV13: =+[1]Аппарат!CV13 -> 1305.772 | CW13: =+CO13-CS13 -> -3.0820678 | CX13: =+CS13/CO13*100-100 -> 0.23659259 | CY13: =SUM(CZ13:DB13) -> 1302.6899 | CZ13: =+[1]Аппарат!CZ13 -> 0 | DA13: =+[1]Аппарат!DA13 -> 0 | DB13: =+[1]Аппарат!DB13 -> 1302.6899 | DC13: =SUM(DD13:DF13) -> 1278.907 | DD13: =+[1]Аппарат!DD13 -> 0 | DE13: =+[1]Аппарат!DE13 -> 0 | DF13: =+[1]Аппарат!DF13 -> 1278.907 | DG13: =+CY13-DC13 -> 23.782932 | DH13: =+DC13/CY13*100-100 -> -1.8256787 | DI13: =SUM(DJ13:DL13) -> 1302.6899 | DJ13: =+[1]Аппарат!DJ13 -> 0 | DK13: =+[1]Аппарат!DK13 -> 0 | DL13: =+[1]Аппарат!DL13 -> 1302.6899 | DM13: =SUM(DN13:DP13) -> 1278.842 | DN13: =+[1]Аппарат!DN13 -> 0 | DO13: =+[1]Аппарат!DO13 -> 0 | DP13: =+[1]Аппарат!DP13 -> 1278.842 | DQ13: =+DI13-DM13 -> 23.847932 | DR13: =+DM13/DI13*100-100 -> -1.8306683 | DS13: =SUM(DT13:DV13) -> 3908.0698 | DT13: =+CP13+CZ13+DJ13 -> 0 | DU13: =+CQ13+DA13+DK13 -> 0 | DV13: =+CR13+DB13+DL13 -> 3908.0698 | DW13: =SUM(DX13:DZ13) -> 3863.521 | DX13: =+CT13+DD13+DN13 -> 0 | DY13: =+CU13+DE13+DO13 -> 0 | DZ13: =+CV13+DF13+DP13 -> 3863.521 | EA13: =+DS13-DW13 -> 44.548797 | EB13: =+DW13/DS13*100-100 -> -1.1399181 | EC13: =SUM(ED13:EF13) -> 11724.209 | ED13: =+CF13+DT13 -> 0 | EE13: =+CG13+DU13 -> 0 | EF13: =+CH13+DV13 -> 11724.209 | EG13: =SUM(EH13:EJ13) -> 13482.897 | EH13: =+CJ13+DX13 -> 0 | EI13: =+CK13+DY13 -> 0 | EJ13: =+CL13+DZ13 -> 13482.897 | EK13: =+EC13-EG13 -> -1758.6877 | EL13: =+EG13/EC13*100-100 -> 15.00048 | EM13: =SUM(EN13:EP13) -> 1302.6899 | EN13: =+[1]Аппарат!EN13 -> 0 | EO13: =+[1]Аппарат!EO13 -> 0 | EP13: =+[1]Аппарат!EP13 -> 1302.6899 | EQ13: =SUM(ER13:ET13) -> 1831.5114 | ER13: =+[1]Аппарат!ER13 -> 0 | ES13: =+[1]Аппарат!ES13 -> 0 | ET13: =+[1]Аппарат!ET13 -> 1831.5114 | EU13: =+EM13-EQ13 -> -528.82146 | EV13: =+EQ13/EM13*100-100 -> 40.594576 | EW13: =SUM(EX13:EZ13) -> 1302.6899 | EX13: =+[1]Аппарат!EX13 -> 0 | EY13: =+[1]Аппарат!EY13 -> 0 | EZ13: =+[1]Аппарат!EZ13 -> 1302.6899 | FA13: =SUM(FB13:FD13) -> 1175.328 | FB13: =+[1]Аппарат!FB13 -> 0 | FC13: =+[1]Аппарат!FC13 -> 0 | FD13: =+[1]Аппарат!FD13 -> 1175.328 | FE13: =+EW13-FA13 -> 127.36193 | FF13: =+FA13/EW13*100-100 -> -9.7768417 | FG13: =SUM(FH13:FJ13) -> 1302.6899 | FH13: =+[1]Аппарат!FH13 -> 0 | FI13: =+[1]Аппарат!FI13 -> 0 | FJ13: =+[1]Аппарат!FJ13 -> 1302.6899 | FK13: =SUM(FL13:FN13) -> 1838.122 | FL13: =+[1]Аппарат!FL13 -> 0 | FM13: =+[1]Аппарат!FM13 -> 0 | FN13: =+[1]Аппарат!FN13 -> 1838.122 | FO13: =+FG13-FK13 -> -535.43207 | FP13: =+FK13/FG13*100-100 -> 41.102035 | FQ13: =SUM(FR13:FT13) -> 3908.0698 | FR13: =+EN13+EX13+FH13 -> 0 | FS13: =+EO13+EY13+FI13 -> 0 | FT13: =+EP13+EZ13+FJ13 -> 3908.0698 | FU13: =SUM(FV13:FX13) -> 4844.9614 | FV13: =+ER13+FB13+FL13 -> 0 | FW13: =+ES13+FC13+FM13 -> 0 | FX13: =+ET13+FD13+FN13 -> 4844.9614 | FY13: =+FQ13-FU13 -> -936.89159 | FZ13: =+FU13/FQ13*100-100 -> 23.973256 | GA13: =SUM(GB13:GD13) -> 7816.1396 | GB13: =+DT13+FR13 -> 0 | GC13: =+DU13+FS13 -> 0 | GD13: =+DV13+FT13 -> 7816.1396 | GE13: =SUM(GF13:GH13) -> 8708.4824 | GF13: =+DX13+FV13 -> 0 | GG13: =+DY13+FW13 -> 0 | GH13: =+DZ13+FX13 -> 8708.4824 | GI13: =+GA13-GE13 -> -892.3428 | GJ13: =+GE13/GA13*100-100 -> 11.416669 | GK13: =SUM(GL13:GN13) -> 15632.279 | GL13: =+ED13+FR13 -> 0 | GM13: =+EE13+FS13 -> 0 | GN13: =+EF13+FT13 -> 15632.279 | GO13: =SUM(GP13:GR13) -> 18327.858 | GP13: =+EH13+FV13 -> 0 | GQ13: =+EI13+FW13 -> 0 | GR13: =+EJ13+FX13 -> 18327.858 | GS13: =+GK13-GO13 -> -2695.5792 | GT13: =+GO13/GK13*100-100 -> 17.243674 | GV13: =+GK13 -> 15632.279 | GX13: =+GW13-CI13 -> -9619.376
B14: Прочие продажи | C14: =SUM(D14:F14) -> 9447.821 | D14: =SUM(D15:D19) -> 7936.005 | E14: =SUM(E15:E19) -> 17.506 | F14: =SUM(F15:F19) -> 1494.31 | G14: =SUM(H14:J14) -> 9900.9047 | H14: =SUM(H15:H19) -> 7927.235 | I14: =SUM(I15:I19) -> 118.8457 | J14: =SUM(J15:J19) -> 1854.824 | K14: =+C14-G14 -> -453.08374 | L14: =+G14/C14*100-100 -> 4.7956427 | M14: =SUM(N14:P14) -> 7783.489 | N14: =SUM(N15:N19) -> 4845.573 | O14: =SUM(O15:O19) -> 17.506 | P14: =SUM(P15:P19) -> 2920.41 | Q14: =SUM(R14:T14) -> 7507.2399 | R14: =SUM(R15:R19) -> 4853.613 | S14: =SUM(S15:S19) -> 141.3283 | T14: =SUM(T15:T19) -> 2512.2986 | U14: =+M14-Q14 -> 276.24913 | V14: =+Q14/M14*100-100 -> -3.5491684 | W14: =SUM(X14:Z14) -> 9423.837 | X14: =SUM(X15:X19) -> 5618.591 | Y14: =SUM(Y15:Y19) -> 17.506 | Z14: =SUM(Z15:Z19) -> 3787.74 | AA14: =SUM(AB14:AD14) -> 13338.851 | AB14: =SUM(AB15:AB19) -> 5618.551 | AC14: =SUM(AC15:AC19) -> 277.86022 | AD14: =SUM(AD15:AD19) -> 7442.4402 | AE14: =+W14-AA14 -> -3915.0144 | AF14: =+AA14/W14*100-100 -> 41.543741 | AG14: =SUM(AH14:AJ14) -> 26655.147 | AH14: =SUM(AH15:AH19) -> 18400.169 | AI14: =SUM(AI15:AI19) -> 52.518 | AJ14: =SUM(AJ15:AJ19) -> 8202.46 | AK14: =SUM(AL14:AN14) -> 30746.996 | AL14: =SUM(AL15:AL19) -> 18399.399 | AM14: =SUM(AM15:AM19) -> 538.03422 | AN14: =SUM(AN15:AN19) -> 11809.563 | AO14: =+AG14-AK14 -> -4091.849 | AP14: =+AK14/AG14*100-100 -> 15.351065 | AQ14: =SUM(AR14:AT14) -> 4432.398 | AR14: =SUM(AR15:AR19) -> 1660.342 | AS14: =SUM(AS15:AS19) -> 21.806 | AT14: =SUM(AT15:AT19) -> 2750.25 | AU14: =SUM(AV14:AX14) -> 5312.8424 | AV14: =SUM(AV15:AV19) -> 1704.5928 | AW14: =SUM(AW15:AW19) -> 199.9288 | AX14: =SUM(AX15:AX19) -> 3408.3208 | AY14: =+AQ14-AU14 -> -880.44438 | AZ14: =+AU14/AQ14*100-100 -> 19.863839 | BA14: =SUM(BB14:BD14) -> 5524.625 | BB14: =SUM(BB15:BB19) -> 2485.009 | BC14: =SUM(BC15:BC19) -> 12.006 | BD14: =SUM(BD15:BD19) -> 3027.61 | BE14: =SUM(BF14:BH14) -> 5994.6671 | BF14: =SUM(BF15:BF19) -> 2675.16 | BG14: =SUM(BG15:BG19) -> 218.33611 | BH14: =SUM(BH15:BH19) -> 3101.171 | BI14: =+BA14-BE14 -> -470.04211 | BJ14: =+BE14/BA14*100-100 -> 8.508127 | BK14: =SUM(BL14:BN14) -> 4653.586 | BL14: =SUM(BL15:BL19) -> 565.5 | BM14: =SUM(BM15:BM19) -> 12.006 | BN14: =SUM(BN15:BN19) -> 4076.08 | BO14: =SUM(BP14:BR14) -> 11959.445 | BP14: =SUM(BP15:BP19) -> 4384.969 | BQ14: =SUM(BQ15:BQ19) -> 485.46175 | BR14: =SUM(BR15:BR19) -> 7089.0143 | BS14: =+BK14-BO14 -> -7305.859 | BT14: =+BO14/BK14*100-100 -> 156.99418 | BU14: =SUM(BV14:BX14) -> 14610.609 | BV14: =SUM(BV15:BV19) -> 4710.851 | BW14: =SUM(BW15:BW19) -> 45.818 | BX14: =SUM(BX15:BX19) -> 9853.94 | BY14: =SUM(BZ14:CB14) -> 23266.955 | BZ14: =SUM(BZ15:BZ19) -> 8764.7218 | CA14: =SUM(CA15:CA19) -> 903.72666 | CB14: =SUM(CB15:CB19) -> 13598.506 | CC14: =+BU14-BY14 -> -8656.3455 | CD14: =+BY14/BU14*100-100 -> 59.246986 | CE14: =SUM(CF14:CH14) -> 41265.756 | CF14: =SUM(CF15:CF19) -> 23111.02 | CG14: =SUM(CG15:CG19) -> 98.336 | CH14: =SUM(CH15:CH19) -> 18056.4 | CI14: =SUM(CJ14:CL14) -> 54013.951 | CJ14: =SUM(CJ15:CJ19) -> 27164.121 | CK14: =SUM(CK15:CK19) -> 1441.7609 | CL14: =SUM(CL15:CL19) -> 25408.069 | CM14: =+CE14-CI14 -> -12748.195 | CN14: =+CI14/CE14*100-100 -> 30.892914 | CO14: =SUM(CP14:CR14) -> 6710.986 | CP14: =SUM(CP15:CP19) -> 2965.5 | CQ14: =SUM(CQ15:CQ19) -> 12.006 | CR14: =SUM(CR15:CR19) -> 3733.48 | CS14: =SUM(CT14:CV14) -> 10198.622 | CT14: =SUM(CT15:CT19) -> 5828.9187 | CU14: =SUM(CU15:CU19) -> 431.10541 | CV14: =SUM(CV15:CV19) -> 3938.5975 | CW14: =+CO14-CS14 -> -3487.6356 | CX14: =+CS14/CO14*100-100 -> 51.969049 | CY14: =SUM(CZ14:DB14) -> 6733.886 | CZ14: =SUM(CZ15:CZ19) -> 2965.5 | DA14: =SUM(DA15:DA19) -> 12.006 | DB14: =SUM(DB15:DB19) -> 3756.38 | DC14: =SUM(DD14:DF14) -> 8680.2165 | DD14: =SUM(DD15:DD19) -> 2998.5561 | DE14: =SUM(DE15:DE19) -> 295.54642 | DF14: =SUM(DF15:DF19) -> 5386.1139 | DG14: =+CY14-DC14 -> -1946.3305 | DH14: =+DC14/CY14*100-100 -> 28.903526 | DI14: =SUM(DJ14:DL14) -> 7749.346 | DJ14: =SUM(DJ15:DJ19) -> 2965.5 | DK14: =SUM(DK15:DK19) -> 12.006 | DL14: =SUM(DL15:DL19) -> 4771.84 | DM14: =SUM(DN14:DP14) -> 24059.277 | DN14: =SUM(DN15:DN19) -> 16847.124 | DO14: =SUM(DO15:DO19) -> 351.64039 | DP14: =SUM(DP15:DP19) -> 6860.5131 | DQ14: =+DI14-DM14 -> -16309.931 | DR14: =+DM14/DI14*100-100 -> 210.46848 | DS14: =SUM(DT14:DV14) -> 21194.218 | DT14: =SUM(DT15:DT19) -> 8896.5 | DU14: =SUM(DU15:DU19) -> 36.018 | DV14: =SUM(DV15:DV19) -> 12261.7 | DW14: =SUM(DX14:DZ14) -> 42938.115 | DX14: =SUM(DX15:DX19) -> 25674.598 | DY14: =SUM(DY15:DY19) -> 1078.2922 | DZ14: =SUM(DZ15:DZ19) -> 16185.225 | EA14: =+DS14-DW14 -> -21743.897 | EB14: =+DW14/DS14*100-100 -> 102.59353 | EC14: =SUM(ED14:EF14) -> 62459.974 | ED14: =SUM(ED15:ED19) -> 32007.52 | EE14: =SUM(EE15:EE19) -> 134.354 | EF14: =SUM(EF15:EF19) -> 30318.1 | EG14: =SUM(EH14:EJ14) -> 96952.066 | EH14: =SUM(EH15:EH19) -> 52838.719 | EI14: =SUM(EI15:EI19) -> 2520.0531 | EJ14: =SUM(EJ15:EJ19) -> 41593.293 | EK14: =+EC14-EG14 -> -34492.092 | EL14: =+EG14/EC14*100-100 -> 55.222712 | EM14: =SUM(EN14:EP14) -> 6842.976 | EN14: =SUM(EN15:EN19) -> 2950.5 | EO14: =SUM(EO15:EO19) -> 12.006 | EP14: =SUM(EP15:EP19) -> 3880.47 | EQ14: =SUM(ER14:ET14) -> 14420.198 | ER14: =SUM(ER15:ER19) -> 8486.734 | ES14: =SUM(ES15:ES19) -> 609.32404 | ET14: =SUM(ET15:ET19) -> 5324.1398 | EU14: =+EM14-EQ14 -> -7577.2218 | EV14: =+EQ14/EM14*100-100 -> 110.72992 | EW14: =SUM(EX14:EZ14) -> 7415.226 | EX14: =SUM(EX15:EX19) -> 3166.39 | EY14: =SUM(EY15:EY19) -> 19.156 | EZ14: =SUM(EZ15:EZ19) -> 4229.68 | FA14: =SUM(FB14:FD14) -> 12007.946 | FB14: =SUM(FB15:FB19) -> 8837.3767 | FC14: =SUM(FC15:FC19) -> 451.40673 | FD14: =SUM(FD15:FD19) -> 2719.1628 | FE14: =+EW14-FA14 -> -4592.7202 | FF14: =+FA14/EW14*100-100 -> 61.936348 | FG14: =SUM(FH14:FJ14) -> 9779.286 | FH14: =SUM(FH15:FH19) -> 2950.5 | FI14: =SUM(FI15:FI19) -> 12.006 | FJ14: =SUM(FJ15:FJ19) -> 6816.78 | FK14: =SUM(FL14:FN14) -> 18499.039 | FL14: =SUM(FL15:FL19) -> 5972.5125 | FM14: =SUM(FM15:FM19) -> 332.25524 | FN14: =SUM(FN15:FN19) -> 12194.272 | FO14: =+FG14-FK14 -> -8719.7533 | FP14: =+FK14/FG14*100-100 -> 89.165541 | FQ14: =SUM(FR14:FT14) -> 24037.488 | FR14: =SUM(FR15:FR19) -> 9067.39 | FS14: =SUM(FS15:FS19) -> 43.168 | FT14: =SUM(FT15:FT19) -> 14926.93 | FU14: =SUM(FV14:FX14) -> 44927.183 | FV14: =SUM(FV15:FV19) -> 23296.623 | FW14: =SUM(FW15:FW19) -> 1392.986 | FX14: =SUM(FX15:FX19) -> 20237.574 | FY14: =+FQ14-FU14 -> -20889.695 | FZ14: =+FU14/FQ14*100-100 -> 86.904652 | GA14: =SUM(GB14:GD14) -> 45231.706 | GB14: =SUM(GB15:GB19) -> 17963.89 | GC14: =SUM(GC15:GC19) -> 79.186 | GD14: =SUM(GD15:GD19) -> 27188.63 | GE14: =SUM(GF14:GH14) -> 87865.298 | GF14: =SUM(GF15:GF19) -> 48971.221 | GG14: =SUM(GG15:GG19) -> 2471.2782 | GH14: =SUM(GH15:GH19) -> 36422.799 | GI14: =+GA14-GE14 -> -42633.592 | GJ14: =+GE14/GA14*100-100 -> 94.25599 | GK14: =SUM(GL14:GN14) -> 86497.462 | GL14: =SUM(GL15:GL19) -> 41074.91 | GM14: =SUM(GM15:GM19) -> 177.522 | GN14: =SUM(GN15:GN19) -> 45245.03 | GO14: =SUM(GP14:GR14) -> 141879.25 | GP14: =SUM(GP15:GP19) -> 76135.342 | GQ14: =SUM(GQ15:GQ19) -> 3913.0391 | GR14: =SUM(GR15:GR19) -> 61830.868 | GS14: =+GK14-GO14 -> -55381.787 | GT14: =+GO14/GK14*100-100 -> 64.027066 | GV14: =+GK14 -> 86497.462 | GX14: =+GW14-CI14 -> -54013.951
